BEGIN:VCALENDAR
VERSION:2.0
PRODID:-//ChamberMaster//Event Calendar 2.0//EN
METHOD:PUBLISH
X-PUBLISHED-TTL:P3D
REFRESH-INTERVAL:P3D
CALSCALE:GREGORIAN
BEGIN:VEVENT
DTSTART:20200812T203000Z
DTEND:20200812T213000Z
X-MICROSOFT-CDO-ALLDAYEVENT:FALSE
SUMMARY:Virtual After Hours-SC Chamber of Commerce Grassroots Tour
DESCRIPTION:Join us virtually for the August After Hours!  This month we will have the annual South Carolina Chamber of Commerce 2020 Grassroots Tour exclusively for the MPCC.\n\n\n\nThe SC Chamber wants to hear from you on issues you are facing as a business that need to be addressed. The feedback received from this meeting will shape the SC Chamber's 2021 Competitiveness Agenda and set the SC Chamber's priorities for the 2021 legislative session.\n\n\n\n\n\nhttps://us02web.zoom.us/webinar/register/WN_vWC-VMnNTvqfb86Xy11raw
X-ALT-DESC;FMTTYPE=text/html:<br />\n<span style="font-family:verdana\;">Join us virtually for the August After Hours!&nbsp\; This month we will have the annual South Carolina Chamber of Commerce 2020 Grassroots Tour exclusively for the MPCC.<br />\n<br />\nThe SC Chamber wants to hear from you on issues you are facing as a business that need to be addressed. The feedback received from this meeting will shape the SC Chamber&rsquo\;s 2021 Competitiveness Agenda and set the SC Chamber&rsquo\;s priorities for the 2021 legislative session.<br />\n<br />\n<br />\n<strong><a href="https://us02web.zoom.us/webinar/register/WN_vWC-VMnNTvqfb86Xy11raw">https://us02web.zoom.us/webinar/register/WN_vWC-VMnNTvqfb86Xy11raw</a></strong></span><br />\n<br />\n&nbsp\;
LOCATION:
UID:e.3610.33
SEQUENCE:3
DTSTAMP:20260420T111058Z
URL:https://business.mountpleasantchamber.org/events/details/virtual-after-hours-sc-chamber-of-commerce-grassroots-tour-33
END:VEVENT

END:VCALENDAR
