BEGIN:VCALENDAR
VERSION:2.0
PRODID:-//ChamberMaster//Event Calendar 2.0//EN
METHOD:PUBLISH
X-PUBLISHED-TTL:P3D
REFRESH-INTERVAL:P3D
CALSCALE:GREGORIAN
BEGIN:VEVENT
DTSTART:20200512T140000Z
DTEND:20200512T150000Z
X-MICROSOFT-CDO-ALLDAYEVENT:FALSE
SUMMARY:Using data science-informed media and marketing to grow your business
DESCRIPTION:Join us for a conversation with Digital-Ignite Advertising for a fast-paced webinar on data science-informed media and marketing - what it is\; how it works and the benefits. Real-world examples will be discussed and there will be time for Q&A. \n\n\n\nWhen: May 12\, 2020 10:00 AM Eastern Time (US and Canada)\n\nTopic: Using data science-informed media & marketing to grow your business\n\n\n\nRegister in advance for this webinar:\n\nhttps://us02web.zoom.us/webinar/register/WN_xkBfBFzzRQWooO9znCwzAg\n\n\n\nAfter registering\, you will receive a confirmation email containing information about joining the webinar.
X-ALT-DESC;FMTTYPE=text/html:Join us for a conversation with Digital-Ignite Advertising for a fast-paced webinar on data science-informed media and marketing - what it is\; how it works and the benefits. Real-world examples will be discussed and there will be time for Q&amp\;A.&nbsp\;<br />\n<br />\nWhen: May 12\, 2020 10:00 AM Eastern Time (US and Canada)<br />\nTopic: Using data science-informed media &amp\; marketing to grow your business<br />\n<br />\nRegister in advance for this webinar:<br />\n<strong><a href="https://us02web.zoom.us/webinar/register/WN_xkBfBFzzRQWooO9znCwzAg">https://us02web.zoom.us/webinar/register/WN_xkBfBFzzRQWooO9znCwzAg</a></strong><br />\n<br />\nAfter registering\, you will receive a confirmation email containing information about joining the webinar.
LOCATION:
UID:e.3610.320
SEQUENCE:3
DTSTAMP:20260420T081015Z
URL:https://business.mountpleasantchamber.org/events/details/using-data-science-informed-media-and-marketing-to-grow-your-business-320
END:VEVENT

END:VCALENDAR
