BEGIN:VCALENDAR
VERSION:2.0
PRODID:-//ChamberMaster//Event Calendar 2.0//EN
METHOD:PUBLISH
X-PUBLISHED-TTL:P3D
REFRESH-INTERVAL:P3D
CALSCALE:GREGORIAN
BEGIN:VEVENT
DTSTART:20210512T170000Z
DTEND:20210512T180000Z
X-MICROSOFT-CDO-ALLDAYEVENT:FALSE
SUMMARY:Unlocking Human Potential - DISC Behavioral Assessments - Free Webinar
DESCRIPTION:Learn how a DISC Behavioral Assessment can be leveraged for personal and team development.\n\n \nAccording to specialists in team development\, most teams never make it to high performance without training in a behavioral model and commitment to using it from the top management down.\n\nBecause the principles of DISC are simple\, easy to apply\, and easy to understand\, there are a number of applications for this behavioral tool. At the most basic level\, DISC personality reports can be used for personal development\, to better understand yourself\, your motivations\, and why you repeatedly do the things you do. Once one can understand themselves\, as well as the tendencies and communication styles of others\, increased communication and understanding between individuals ensues. This can be applied to conflict resolution\, team building\, and increasing communication in personal or corporate culture. When applied to specific areas\, such as hiring\, leadership development\, stress management\, sales training\, education or ministry\, DISC styles and tools can be applied in very specific ways to achieve a goal.\n\nAre you ready to increase your self awareness and lead your team to new heights? then please join us to learn how to unlock human potential through DISC assessments.
X-ALT-DESC;FMTTYPE=text/html:Learn how a DISC Behavioral Assessment can be leveraged for personal and team development.<br />\n&nbsp\;\n<p>According to specialists in team development\, most teams never make it to high performance without training in a behavioral model and commitment to using it from the top management down.</p>\n\n<p>Because the principles of DISC are simple\, easy to apply\, and easy to understand\, there are a number of applications for this behavioral tool. At the most basic level\, DISC personality reports can be used for personal development\, to better understand yourself\, your motivations\, and why you repeatedly do the things you do. Once one can understand themselves\, as well as the tendencies and communication styles of others\, increased communication and understanding between individuals ensues. This can be applied to conflict resolution\, team building\, and increasing communication in personal or corporate culture. When applied to specific areas\, such as hiring\, leadership development\, stress management\, sales training\, education or ministry\, DISC styles and tools can be applied in very specific ways to achieve a goal.</p>\n\n<p>Are you ready to increase your self awareness and lead your team to new heights? then please join us to learn how to unlock human potential through DISC assessments.</p>\n
LOCATION:Free Webinar register here: https://www.eventbrite.com/x/unlocking-human-potential-disc-behavioral-assessments-free-webinar-tickets-152588533411
UID:e.3610.468
SEQUENCE:3
DTSTAMP:20260425T204013Z
URL:https://business.mountpleasantchamber.org/events/details/unlocking-human-potential-disc-behavioral-assessments-free-webinar-468
END:VEVENT

END:VCALENDAR
