BEGIN:VCALENDAR
VERSION:2.0
PRODID:-//ChamberMaster//Event Calendar 2.0//EN
METHOD:PUBLISH
X-PUBLISHED-TTL:P3D
REFRESH-INTERVAL:P3D
CALSCALE:GREGORIAN
BEGIN:VEVENT
DTSTART:20201213T223000Z
DTEND:20201214T010000Z
X-MICROSOFT-CDO-ALLDAYEVENT:FALSE
SUMMARY:Town of Mount Pleasant 25th Annual Christmas Light Parade
DESCRIPTION:Brilliantly lit floats and community groups will march up West Coleman Boulevard as the Mount Pleasant Christmas Light Parade sets sail to the delight of thousands of residents and visitors. The festivities begin at 5:30 p.m. with a spectacular Pyrotecnico fireworks show\, immediately followed by the start of the parade at Live Oak Dr. traveling south and ending at the intersection of W. Coleman Blvd. and Patriots Point Rd.
X-ALT-DESC;FMTTYPE=text/html:<span style="font-family:verdana\;">Brilliantly lit floats and community groups will march up West Coleman Boulevard as the Mount Pleasant Christmas Light Parade sets sail to the delight of thousands of residents and visitors. The festivities begin at 5:30 p.m. with a spectacular Pyrotecnico fireworks show\, immediately followed by the start of the parade at Live Oak Dr. traveling south and ending at the intersection of W. Coleman Blvd. and Patriots Point Rd.</span>
LOCATION:
UID:e.3610.407
SEQUENCE:3
DTSTAMP:20260420T173056Z
URL:https://business.mountpleasantchamber.org/events/details/town-of-mount-pleasant-25th-annual-christmas-light-parade-407
END:VEVENT

END:VCALENDAR
