BEGIN:VCALENDAR
VERSION:2.0
PRODID:-//ChamberMaster//Event Calendar 2.0//EN
METHOD:PUBLISH
X-PUBLISHED-TTL:P3D
REFRESH-INTERVAL:P3D
CALSCALE:GREGORIAN
BEGIN:VEVENT
DTSTART:20200519T193000Z
DTEND:20200519T203000Z
X-MICROSOFT-CDO-ALLDAYEVENT:FALSE
SUMMARY:The Sales Pivot: Selling your products and services effectively in the post-pandemic economy
DESCRIPTION:Please join the Mount Pleasant Chamber of Commerce for a special look at how to adapt your selling approach to the new realities of recovery from the economic slowdown. This 45 minute discussion features three professionals in a lively conversation of what they've started doing differently to sell their products and service in the current business climate.\n\n\n\nModerator is John Carroll\, Strategist\, Growth Consultant and President\, Unlimited Performance\, Inc.  \n\nRegister in advance for this webinar:\n\n\n\nhttps://us02web.zoom.us/webinar/register/WN_P-TXO6_lTKSeblp7WgD4kg\n\n\n\nAfter registering\, you will receive a confirmation email containing information about joining the webinar.
X-ALT-DESC;FMTTYPE=text/html:Please join the Mount Pleasant Chamber of Commerce for a special look at how to adapt your selling approach to the new realities of recovery from the economic slowdown. This 45 minute discussion features three professionals in a lively conversation of what they&#39\;ve started doing differently to sell their products and service in the current business climate.<br />\n<br />\nModerator is John Carroll\, Strategist\, Growth Consultant and President\, Unlimited Performance\, Inc.&nbsp\;&nbsp\;<br />\nRegister in advance for this webinar:<br />\n<br />\n<a href="https://us02web.zoom.us/webinar/register/WN_P-TXO6_lTKSeblp7WgD4kg">https://us02web.zoom.us/webinar/register/WN_P-TXO6_lTKSeblp7WgD4kg</a><br />\n<br />\nAfter registering\, you will receive a confirmation email containing information about joining the webinar.
LOCATION:
UID:e.3610.325
SEQUENCE:3
DTSTAMP:20260420T081354Z
URL:https://business.mountpleasantchamber.org/events/details/the-sales-pivot-selling-your-products-and-services-effectively-in-the-post-pandemic-economy-325
END:VEVENT

END:VCALENDAR
