BEGIN:VCALENDAR
VERSION:2.0
PRODID:-//ChamberMaster//Event Calendar 2.0//EN
METHOD:PUBLISH
X-PUBLISHED-TTL:P3D
REFRESH-INTERVAL:P3D
CALSCALE:GREGORIAN
BEGIN:VEVENT
DTSTART:20200512T193000Z
DTEND:20200512T203000Z
X-MICROSOFT-CDO-ALLDAYEVENT:FALSE
SUMMARY:The Sales Pivot: Selling your products and services effectively in the post-pandemic economy
DESCRIPTION:Please join the Mount Pleasant Chamber of Commerce for a special look at how to adapt your selling approach to the new realities of recovery from the economic slowdown. This 45 minute discussion features three professionals in a lively conversation of what they've started doing differently to sell their products and service in the current business climate.\n\n\n\nModerator is John Carroll\, Strategist\, Growth Consultant and President\, Unlimited Performance\, Inc.  \n\n \n\nWhen: May 12\, 2020 03:30 PM Eastern Time (US and Canada)\n\nTopic: The Sales Pivot: Selling your Products and Services Effectively in a Post-Pandemic Economy\n\n\n\nRegister in advance for this webinar:\n\nhttps://us02web.zoom.us/webinar/register/WN_BRtzO5HyQ_S1MsDEO22nJA\n\n\n\n\n\nAfter registering\, you will receive a confirmation email containing information about joining the webinar.
X-ALT-DESC;FMTTYPE=text/html:Please join the Mount Pleasant Chamber of Commerce for a special look at how to adapt your selling approach to the new realities of recovery from the economic slowdown. This 45 minute discussion features three professionals in a lively conversation of what they&#39\;ve started doing differently to sell their products and service in the current business climate.<br />\n<br />\nModerator is John Carroll\, Strategist\, Growth Consultant and President\, Unlimited Performance\, Inc.&nbsp\;&nbsp\;<br />\n&nbsp\;<br />\nWhen: May 12\, 2020 03:30 PM Eastern Time (US and Canada)<br />\nTopic: The Sales Pivot: Selling your Products and Services Effectively in a Post-Pandemic Economy<br />\n<br />\nRegister in advance for this webinar:<br />\n<strong><a href="https://us02web.zoom.us/webinar/register/WN_BRtzO5HyQ_S1MsDEO22nJA">https://us02web.zoom.us/webinar/register/WN_BRtzO5HyQ_S1MsDEO22nJA</a></strong><br />\n<br />\n<br />\nAfter registering\, you will receive a confirmation email containing information about joining the webinar.
LOCATION:
UID:e.3610.319
SEQUENCE:3
DTSTAMP:20260420T064115Z
URL:https://business.mountpleasantchamber.org/events/details/the-sales-pivot-selling-your-products-and-services-effectively-in-the-post-pandemic-economy-319
END:VEVENT

END:VCALENDAR
