BEGIN:VCALENDAR
VERSION:2.0
PRODID:-//ChamberMaster//Event Calendar 2.0//EN
METHOD:PUBLISH
X-PUBLISHED-TTL:P3D
REFRESH-INTERVAL:P3D
CALSCALE:GREGORIAN
BEGIN:VEVENT
DTSTART:20200505T193000Z
DTEND:20200505T203000Z
X-MICROSOFT-CDO-ALLDAYEVENT:FALSE
SUMMARY:The Sales Pivot: Selling your products and services effectively in the post-pandemic economy
DESCRIPTION:The Sales Pivot:  Selling your products and services effectively in the post-pandemic economy\n\n\n\nPlease join the Mount Pleasant Chamber of Commerce for a special look at how to adapt your selling approach to the new realities of recovery from the economic slowdown.  This 45 minute discussion features three professionals in a lively conversation of what they've started doing differently to sell their products and service in the current business climate. \n\n\n\nModerator is John Carroll\, Strategist\, Growth Consultant and President\, Unlimited Performance\, Inc.\n\n\n\nPanelists are:\n\nMichael Cochran\, Farm Bureau Insurance\n\nSylvia Darby\, Owner of Foundation F.I.T.\n\nTim Dunn\, Success Mortgage Partners\n\n\n\nRegister in advance for this webinar:\n\nhttps://us02web.zoom.us/webinar/register/WN_9A0rozWtQnCC8Hzo5ROzMg\n\n\n\nAfter registering\, you will receive a confirmation email containing information about joining the webinar.
X-ALT-DESC;FMTTYPE=text/html:The Sales Pivot: &nbsp\;Selling your products and services effectively in the post-pandemic economy<br />\n<br />\nPlease join the Mount Pleasant Chamber of Commerce for a special look at how to adapt your selling approach to the new realities of recovery from the economic slowdown.&nbsp\; This 45 minute discussion features three professionals in a lively conversation of what they&#39\;ve started doing differently to sell their products and service in the current business climate.&nbsp\;<br />\n<br />\nModerator is John Carroll\, Strategist\, Growth Consultant and President\, Unlimited Performance\, Inc.<br />\n<br />\nPanelists are:<br />\nMichael Cochran\, Farm Bureau Insurance<br />\nSylvia Darby\, Owner of Foundation F.I.T.<br />\nTim Dunn\, Success Mortgage Partners<br />\n<br />\nRegister in advance for this webinar:<br />\n<strong><a href="https://us02web.zoom.us/webinar/register/WN_9A0rozWtQnCC8Hzo5ROzMg">https://us02web.zoom.us/webinar/register/WN_9A0rozWtQnCC8Hzo5ROzMg</a></strong><br />\n<br />\nAfter registering\, you will receive a confirmation email containing information about joining the webinar.
LOCATION:
UID:e.3610.316
SEQUENCE:3
DTSTAMP:20260420T064137Z
URL:https://business.mountpleasantchamber.org/events/details/the-sales-pivot-selling-your-products-and-services-effectively-in-the-post-pandemic-economy-316
END:VEVENT

END:VCALENDAR
