BEGIN:VCALENDAR
VERSION:2.0
PRODID:-//ChamberMaster//Event Calendar 2.0//EN
METHOD:PUBLISH
X-PUBLISHED-TTL:P3D
REFRESH-INTERVAL:P3D
CALSCALE:GREGORIAN
BEGIN:VEVENT
DTSTART:20200428T193000Z
DTEND:20200428T203000Z
X-MICROSOFT-CDO-ALLDAYEVENT:FALSE
SUMMARY:The Sales Pivot: Selling your products and services effectively in the post-pandemic economy
DESCRIPTION:The Sales Pivot:  Selling your products and services effectively in the post-pandemic economy\n\n\n\nRegister in advance for this webinar:\n\nhttps://us02web.zoom.us/webinar/register/WN_bTyWL6LRSEKyEyCpimC7NQ\n\n\n\n\n\nAfter registering\, you will receive a confirmation email containing information about joining the webinar.
X-ALT-DESC;FMTTYPE=text/html:The Sales Pivot: &nbsp\;Selling your products and services effectively in the post-pandemic economy<br />\n<br />\nRegister in advance for this webinar:<br />\n<a href="https://us02web.zoom.us/webinar/register/WN_bTyWL6LRSEKyEyCpimC7NQ">https://us02web.zoom.us/webinar/register/WN_bTyWL6LRSEKyEyCpimC7NQ</a><br />\n<br />\n<br />\nAfter registering\, you will receive a confirmation email containing information about joining the webinar.
LOCATION:
UID:e.3610.313
SEQUENCE:3
DTSTAMP:20260420T045457Z
URL:https://business.mountpleasantchamber.org/events/details/the-sales-pivot-selling-your-products-and-services-effectively-in-the-post-pandemic-economy-313
END:VEVENT

END:VCALENDAR
