BEGIN:VCALENDAR
VERSION:2.0
PRODID:-//ChamberMaster//Event Calendar 2.0//EN
METHOD:PUBLISH
X-PUBLISHED-TTL:P3D
REFRESH-INTERVAL:P3D
CALSCALE:GREGORIAN
BEGIN:VEVENT
DTSTART:20200421T193000Z
DTEND:20200421T201500Z
X-MICROSOFT-CDO-ALLDAYEVENT:FALSE
SUMMARY:The Sales Pivot: Selling your products and services effectively in the post-pandemic economy
DESCRIPTION:Please join the Mount Pleasant Chamber of Commerce for a special look at how to adapt your selling approach to the new realities of recovery from the economic slowdown. This 45-minute presentation will feature three local professionals in a lively discussion of what they've started doing differently to sell their products and services in the current business climate.\n \n\nModerator: John Carroll\, Strategist and Growth Consultant and President\, Unlimited Performance\, Inc.\n\nPanelists: Frank Frazier\, Senior Resident Director\, Financial Advisor and Assistant Vice President of the Rawlings Bolig Frazier Group with Merrill Lynch\; Jennifer Maxwell\, Regional Director of Sales with Raines Hospitality\; and Seth Levy\, Esq.\, The Law Office of Seth A. Levy\, LLC\n\nJoin from a PC\, Mac\, iPad\, iPhone or Android device:\n\nPlease click this URL to join. https://us02web.zoom.us/s/81943930342\n\nOr join by phone:\n\nDial(for higher quality\, dial a number based on your current location):\n\nUS: +1 312 626 6799 or +1 929 205 6099 or +1 346 248 7799 or +1 669 900 6833 or +1 253 215 8782 or +1 301 715 8592\n\nWebinar ID: 819 4393 0342\n\nInternational numbers available: https://us02web.zoom.us/u/kdsaRAok7E
X-ALT-DESC;FMTTYPE=text/html:<span style="color: rgb(34\, 34\, 34)\; font-family: Arial\, sans-serif\; font-size: 13px\; white-space: pre-wrap\; background-color: rgb(255\, 255\, 255)\;">Please join the Mount Pleasant Chamber of Commerce for a special look at how to adapt your selling approach to the new realities of recovery from the economic slowdown. This 45-minute presentation will feature three local professionals in a lively discussion of what they&rsquo\;ve started doing differently to sell their products and services in the current business climate.</span>\n<p style="color: rgb(34\, 34\, 34)\; font-family: Arial\, sans-serif\; font-size: 13px\; white-space: pre-wrap\; background-color: rgb(255\, 255\, 255)\;">&nbsp\;</p>\n\n<p style="color: rgb(34\, 34\, 34)\; font-family: Arial\, sans-serif\; font-size: 13px\; white-space: pre-wrap\; background-color: rgb(255\, 255\, 255)\;">Moderator: John Carroll\, Strategist and Growth Consultant and President\, Unlimited Performance\, Inc.</p>\n\n<p style="color: rgb(34\, 34\, 34)\; font-family: Arial\, sans-serif\; font-size: 13px\; white-space: pre-wrap\; background-color: rgb(255\, 255\, 255)\;">Panelists: Frank Frazier\, Senior Resident Director\, Financial Advisor and Assistant Vice President of the Rawlings Bolig Frazier Group with Merrill Lynch\; Jennifer Maxwell\, Regional Director of Sales with Raines Hospitality\; and Seth Levy\, Esq.\, The Law Office of Seth A. Levy\, LLC</p>\n\n<p style="color: rgb(34\, 34\, 34)\; font-family: Arial\, sans-serif\; font-size: 13px\; white-space: pre-wrap\; background-color: rgb(255\, 255\, 255)\;">Join from a PC\, Mac\, iPad\, iPhone or Android device:<br />\nPlease click this URL to join. <a data-saferedirecturl="https://www.google.com/url?q=https://www.google.com/url?q%3Dhttps%253A%252F%252Fus02web.zoom.us%252Fs%252F81943930342%26sa%3DD%26usd%3D2%26usg%3DAFQjCNE79vg6sQrJ6W57QV6-8JaKy81KUw&amp\;source=gmail&amp\;ust=1587224311091000&amp\;usg=AFQjCNEC0C2s3USYi8zrA8QPp6MKN55hbA" href="https://www.google.com/url?q=https%3A%2F%2Fus02web.zoom.us%2Fs%2F81943930342&amp\;sa=D&amp\;usd=2&amp\;usg=AFQjCNE79vg6sQrJ6W57QV6-8JaKy81KUw" style="color: rgb(17\, 85\, 204)\;" target="_blank">https://us02web.zoom.us/s/<wbr />81943930342</a></p>\n\n<p style="color: rgb(34\, 34\, 34)\; font-family: Arial\, sans-serif\; font-size: 13px\; white-space: pre-wrap\; background-color: rgb(255\, 255\, 255)\;">Or join by phone:<br />\nDial(for higher quality\, dial a number based on your current location):<br />\nUS: +1 312 626 6799 or +1 929 205 6099 or +1 346 248 7799 or +1 669 900 6833 or +1 253 215 8782 or +1 301 715 8592<br />\nWebinar ID: 819 4393 0342<br />\nInternational numbers available: <a data-saferedirecturl="https://www.google.com/url?q=https://www.google.com/url?q%3Dhttps%253A%252F%252Fus02web.zoom.us%252Fu%252FkdsaRAok7E%26sa%3DD%26usd%3D2%26usg%3DAFQjCNEPzEvd_JJ6anILHP-iXisCp57MlQ&amp\;source=gmail&amp\;ust=1587224311091000&amp\;usg=AFQjCNG0sOhAxcl8wi60n6ArqlGk8TaKnw" href="https://www.google.com/url?q=https%3A%2F%2Fus02web.zoom.us%2Fu%2FkdsaRAok7E&amp\;sa=D&amp\;usd=2&amp\;usg=AFQjCNEPzEvd_JJ6anILHP-iXisCp57MlQ" style="color: rgb(17\, 85\, 204)\;" target="_blank">https://us02web.zoom.us/u/<wbr />kdsaRAok7E</a></p>\n
LOCATION:
UID:e.3610.309
SEQUENCE:3
DTSTAMP:20260420T045416Z
URL:https://business.mountpleasantchamber.org/events/details/the-sales-pivot-selling-your-products-and-services-effectively-in-the-post-pandemic-economy-309
END:VEVENT

END:VCALENDAR
