BEGIN:VCALENDAR
VERSION:2.0
PRODID:-//ChamberMaster//Event Calendar 2.0//EN
METHOD:PUBLISH
X-PUBLISHED-TTL:P3D
REFRESH-INTERVAL:P3D
CALSCALE:GREGORIAN
BEGIN:VEVENT
DTSTART:20210105T171500Z
DTEND:20210105T180000Z
X-MICROSOFT-CDO-ALLDAYEVENT:FALSE
SUMMARY:The Pivot: with Mike Weeks of DWG Engineering
DESCRIPTION:Join Moderator John Carroll\, Growth Strategist\, Consultant and President of Unlimited Performance\, Inc. as he leads an engaging conversation with different panelists each week on topics relevant to living and working during the COVID 19 pandemic.\n\n\n\nThis week John talks with Mike Weeks of DWG Engineering.\n\n\n\nRegister in advance for this webinar:\n\nhttps://us02web.zoom.us/webinar/register/WN_ZtG62zhbRQGj3HfcoL_9nw
X-ALT-DESC;FMTTYPE=text/html:<span style="font-family:verdana\;">Join Moderator John Carroll\, Growth Strategist\, Consultant and President of Unlimited Performance\, Inc. as he leads an engaging conversation with different panelists each week on topics relevant to living and working during the COVID 19 pandemic.<br />\n<br />\nThis week John talks with Mike Weeks of DWG Engineering.</span><br />\n<br />\n<span style="font-family:verdana\;">Register in advance for this webinar:<br />\n<strong><a href="https://us02web.zoom.us/webinar/register/WN_ZtG62zhbRQGj3HfcoL_9nw">https://us02web.zoom.us/webinar/register/WN_ZtG62zhbRQGj3HfcoL_9nw</a></strong></span>
LOCATION:
UID:e.3610.421
SEQUENCE:3
DTSTAMP:20260420T190129Z
URL:https://business.mountpleasantchamber.org/events/details/the-pivot-with-mike-weeks-of-dwg-engineering-421
END:VEVENT

END:VCALENDAR
