BEGIN:VCALENDAR
VERSION:2.0
PRODID:-//ChamberMaster//Event Calendar 2.0//EN
METHOD:PUBLISH
X-PUBLISHED-TTL:P3D
REFRESH-INTERVAL:P3D
CALSCALE:GREGORIAN
BEGIN:VEVENT
DTSTART:20201020T161500Z
DTEND:20201020T170000Z
X-MICROSOFT-CDO-ALLDAYEVENT:FALSE
SUMMARY:The Pivot with Forte Jazz Lounge
DESCRIPTION:Join Moderator John Carroll\, Growth Strategist\, Consultant and President of Unlimited Performance\, Inc. as he leads an engaging conversation with Joe Clarke\, Owner of Forte Jazz Lounge\, about the impact of COVID 19 on the entertainment industry.  Plus\, Joe will share his amazing singing talent!\n\n\n\nRegister in advance for this webinar:\n\nhttps://us02web.zoom.us/webinar/register/WN_a23_Yf9zSQeOK0PZ7T_CYg
X-ALT-DESC;FMTTYPE=text/html:<span style="color: rgb(34\, 34\, 34)\; font-family: Arial\, Helvetica\, sans-serif\; font-size: small\; background-color: rgb(255\, 255\, 255)\;">Join Moderator John Carroll\, Growth Strategist\, Consultant and President of Unlimited Performance\, Inc. as he leads an engaging conversation with Joe Clarke\, Owner of Forte Jazz Lounge\, about the impact of COVID 19 on the entertainment industry.&nbsp\; Plus\, Joe will share his amazing singing talent!</span><br style="color: rgb(34\, 34\, 34)\; font-family: Arial\, Helvetica\, sans-serif\; font-size: small\; background-color: rgb(255\, 255\, 255)\;" />\n<br style="color: rgb(34\, 34\, 34)\; font-family: Arial\, Helvetica\, sans-serif\; font-size: small\; background-color: rgb(255\, 255\, 255)\;" />\n<strong style="color: rgb(34\, 34\, 34)\; font-family: Arial\, Helvetica\, sans-serif\; font-size: small\; background-color: rgb(255\, 255\, 255)\;">Register in advance for this webinar:</strong><br />\n<strong><a href="https://us02web.zoom.us/webinar/register/WN_a23_Yf9zSQeOK0PZ7T_CYg">https://us02web.zoom.us/webinar/register/WN_a23_Yf9zSQeOK0PZ7T_CYg</a></strong><br />\n<br />\n&nbsp\;
LOCATION:
UID:e.3610.390
SEQUENCE:3
DTSTAMP:20260420T140244Z
URL:https://business.mountpleasantchamber.org/events/details/the-pivot-with-forte-jazz-lounge-390
END:VEVENT

END:VCALENDAR
