BEGIN:VCALENDAR
VERSION:2.0
PRODID:-//ChamberMaster//Event Calendar 2.0//EN
METHOD:PUBLISH
X-PUBLISHED-TTL:P3D
REFRESH-INTERVAL:P3D
CALSCALE:GREGORIAN
BEGIN:VEVENT
DTSTART:20201103T171500Z
DTEND:20201103T180000Z
X-MICROSOFT-CDO-ALLDAYEVENT:FALSE
SUMMARY:The Pivot: Modern Minds on Mental Wellness
DESCRIPTION:Depression and anxiety have impacted people in different ways during COVID 19. In a unique partnership with MUSC\, the BEEMOK Family Foundation has launched a new Charleston practice called Modern Minds. During this week's The Pivot\, moderated by John Carroll\, we'll talk with two Modern Minds wellness mentors\, Dr. Anne Marie Albano and Dr. Kevin Gray about how Modern Minds offers traditional mental wellness therapies along with other treatments\, such as socialization\, diet\, movement and mindfulness.  \n\n\n\nRegister in advance for this webinar:\n\nhttps://us02web.zoom.us/webinar/register/WN_mfiJII4LRw2UYPrQo43BYQ
X-ALT-DESC;FMTTYPE=text/html:<span style="font-family:verdana\;">Depression and anxiety have impacted people in different ways during COVID 19. In a unique partnership with MUSC\, the BEEMOK Family Foundation has launched a new Charleston practice called Modern Minds. During this week&rsquo\;s The Pivot\, moderated by John Carroll\, we&#39\;ll talk with two Modern Minds wellness mentors\, Dr. Anne Marie Albano and Dr. Kevin Gray about how Modern Minds offers traditional mental wellness therapies along with other treatments\, such as socialization\, diet\, movement and mindfulness.&nbsp\;&nbsp\;</span><br style="color: rgb(34\, 34\, 34)\; font-family: Arial\, Helvetica\, sans-serif\; font-size: small\; background-color: rgb(255\, 255\, 255)\;" />\n<br style="color: rgb(34\, 34\, 34)\; font-family: Arial\, Helvetica\, sans-serif\; font-size: small\; background-color: rgb(255\, 255\, 255)\;" />\n<span style="font-family:verdana\;"><strong style="color: rgb(34\, 34\, 34)\; font-family: Arial\, Helvetica\, sans-serif\; font-size: small\; background-color: rgb(255\, 255\, 255)\;">Register in advance for this webinar:</strong><br />\n<strong><a href="https://us02web.zoom.us/webinar/register/WN_mfiJII4LRw2UYPrQo43BYQ">https://us02web.zoom.us/webinar/register/WN_mfiJII4LRw2UYPrQo43BYQ</a></strong></span><br />\n&nbsp\;
LOCATION:
UID:e.3610.393
SEQUENCE:3
DTSTAMP:20260420T172118Z
URL:https://business.mountpleasantchamber.org/events/details/the-pivot-modern-minds-on-mental-wellness-393
END:VEVENT

END:VCALENDAR
