BEGIN:VCALENDAR
VERSION:2.0
PRODID:-//ChamberMaster//Event Calendar 2.0//EN
METHOD:PUBLISH
X-PUBLISHED-TTL:P3D
REFRESH-INTERVAL:P3D
CALSCALE:GREGORIAN
BEGIN:VEVENT
DTSTART:20201124T171500Z
DTEND:20201124T180000Z
X-MICROSOFT-CDO-ALLDAYEVENT:FALSE
SUMMARY:The Pivot: Lowcountry Local First
DESCRIPTION:Join Moderator John Carroll\, Growth Strategist\, Consultant and President of Unlimited Performance\, Inc. as he leads an engaging conversation with Lowcountry Local First about the importance of buying local especially during the pandemic.  \n\n\n\nRegister in advance for this webinar:\n\nhttps://us02web.zoom.us/webinar/register/WN_2U8ujdBpS9ir-bbDqT4Pww
X-ALT-DESC;FMTTYPE=text/html:<span style="font-family:verdana\;">Join Moderator John Carroll\, Growth Strategist\, Consultant and President of Unlimited Performance\, Inc. as he leads an engaging conversation with Lowcountry Local First about the importance of buying local especially during the pandemic.&nbsp\;&nbsp\;</span><br />\n<br />\n<span style="font-family:verdana\;">Register in advance for this webinar:</span><br />\n<span style="font-family:verdana\;"><strong><a href="https://us02web.zoom.us/webinar/register/WN_2U8ujdBpS9ir-bbDqT4Pww">https://us02web.zoom.us/webinar/register/WN_2U8ujdBpS9ir-bbDqT4Pww</a></strong></span><br />\n<br />\n&nbsp\;
LOCATION:
UID:e.3610.396
SEQUENCE:3
DTSTAMP:20260420T154538Z
URL:https://business.mountpleasantchamber.org/events/details/the-pivot-lowcountry-local-first-396
END:VEVENT

END:VCALENDAR
