BEGIN:VCALENDAR
VERSION:2.0
PRODID:-//ChamberMaster//Event Calendar 2.0//EN
METHOD:PUBLISH
X-PUBLISHED-TTL:P3D
REFRESH-INTERVAL:P3D
CALSCALE:GREGORIAN
BEGIN:VEVENT
DTSTART:20201027T161500Z
DTEND:20201027T170000Z
X-MICROSOFT-CDO-ALLDAYEVENT:FALSE
SUMMARY:The Pivot: J. Henry Stuhr Funeral Home
DESCRIPTION:Join Moderator John Carroll\, Growth Strategist\, Consultant and President of Unlimited Performance\, Inc. as he leads an engaging conversation with different panelists each week on topics relevant to living and working during the COVID 19 pandemic.  This week's guest is J. Henry Stuhr Funeral Home.\n\n\n\nRegister in advance for this webinar:\n\nhttps://us02web.zoom.us/webinar/register/WN_ulRtkKihRbSZsuI4UTjPMw
X-ALT-DESC;FMTTYPE=text/html:<span style="font-family:verdana\;"><span style="color: rgb(34\, 34\, 34)\; font-size: small\; background-color: rgb(255\, 255\, 255)\;">Join Moderator John Carroll\, Growth Strategist\, Consultant and President of Unlimited Performance\, Inc. as he leads an engaging conversation with different panelists each week on topics relevant to living and working during the COVID 19 pandemic.&nbsp\; This week&#39\;s guest is J. Henry Stuhr Funeral Home.</span><br style="color: rgb(34\, 34\, 34)\; font-family: Arial\, Helvetica\, sans-serif\; font-size: small\; background-color: rgb(255\, 255\, 255)\;" />\n<br style="color: rgb(34\, 34\, 34)\; font-family: Arial\, Helvetica\, sans-serif\; font-size: small\; background-color: rgb(255\, 255\, 255)\;" />\n<strong style="color: rgb(34\, 34\, 34)\; font-family: Arial\, Helvetica\, sans-serif\; font-size: small\; background-color: rgb(255\, 255\, 255)\;">Register in advance for this webinar:</strong><br />\n<strong><a href="https://us02web.zoom.us/webinar/register/WN_ulRtkKihRbSZsuI4UTjPMw">https://us02web.zoom.us/webinar/register/WN_ulRtkKihRbSZsuI4UTjPMw</a></strong></span><br />\n<br />\n&nbsp\;
LOCATION:
UID:e.3610.392
SEQUENCE:3
DTSTAMP:20260420T140332Z
URL:https://business.mountpleasantchamber.org/events/details/the-pivot-j-henry-stuhr-funeral-home-392
END:VEVENT

END:VCALENDAR
