BEGIN:VCALENDAR
VERSION:2.0
PRODID:-//ChamberMaster//Event Calendar 2.0//EN
METHOD:PUBLISH
X-PUBLISHED-TTL:P3D
REFRESH-INTERVAL:P3D
CALSCALE:GREGORIAN
BEGIN:VEVENT
DTSTART:20200901T193000Z
DTEND:20200901T203000Z
X-MICROSOFT-CDO-ALLDAYEVENT:FALSE
SUMMARY:The Pivot: Guest Panelist Patrick Downes\, CEO\, East Cooper Medical Center
DESCRIPTION:Join Moderator John Carroll\, Growth Strategist\, Consultant and President of Unlimited Performance\, Inc. as he leads an engaging conversation with different panelists each week on topics relevant to living and working during the COVID 19 pandemic.  \n\n\n\nThis week's guest is Patrick Downes\, CEO of East Cooper Medical Center.  Patrick Downes joined East Cooper Medical Center as CEO in March 2017. As CEO\, Downes is responsible for all hospital operations\, executive planning and medical services. He comes to East Cooper Medical Center from a sister facility\, Coral Gables Hospital\, where he served as the CEO. Prior to that\, he was the chief operating officer of Hialeah Hospital for four years. Patrick also served as the associate administrator for Tenet Florida Physician Services and held the position of associate administrator at North Shore Medical Center. He earned his Bachelor of Science in Business Administration and Master of Science in Business Administration from Florida State University.\n\n\n\nRegister in advance for this webinar:\n\nhttps://us02web.zoom.us/webinar/register/WN_iwhdo7y7RSeNTAddVOHQbw
X-ALT-DESC;FMTTYPE=text/html:<span style="font-family:verdana\;">Join Moderator John Carroll\, Growth Strategist\, Consultant and President of Unlimited Performance\, Inc. as he leads an engaging conversation with different panelists each week on topics relevant to living and working during the COVID 19 pandemic.&nbsp\;&nbsp\;<br />\n<br />\nThis week&#39\;s guest is Patrick Downes\, CEO of East Cooper Medical Center.&nbsp\;&nbsp\;Patrick Downes joined East Cooper Medical Center as CEO in March 2017. As CEO\, Downes is responsible for all hospital operations\, executive planning and medical services. He comes to East Cooper Medical Center from a sister facility\, Coral Gables Hospital\, where he served as the CEO. Prior to that\, he was the chief operating officer of Hialeah Hospital for four years. Patrick also served as the associate administrator for Tenet Florida Physician Services and held the position of associate administrator at North Shore Medical Center. He earned his Bachelor of Science in Business Administration and Master of Science in Business Administration from Florida State University.</span><br />\n<br />\n<span style="font-family:verdana\;">Register in advance for this webinar:</span><br />\n<strong><a href="https://us02web.zoom.us/webinar/register/WN_iwhdo7y7RSeNTAddVOHQbw"><span style="font-family:verdana\;">https://us02web.zoom.us/webinar/register/WN_iwhdo7y7RSeNTAddVOHQbw</span></a></strong><br />\n&nbsp\;
LOCATION:
UID:e.3610.366
SEQUENCE:3
DTSTAMP:20260420T123902Z
URL:https://business.mountpleasantchamber.org/events/details/the-pivot-guest-panelist-patrick-downes-ceo-east-cooper-medical-center-366
END:VEVENT

END:VCALENDAR
