BEGIN:VCALENDAR
VERSION:2.0
PRODID:-//ChamberMaster//Event Calendar 2.0//EN
METHOD:PUBLISH
X-PUBLISHED-TTL:P3D
REFRESH-INTERVAL:P3D
CALSCALE:GREGORIAN
BEGIN:VEVENT
DTSTART:20201215T171500Z
DTEND:20201215T180000Z
X-MICROSOFT-CDO-ALLDAYEVENT:FALSE
SUMMARY:The Pivot: Fulcrum Staffing Accounting and Financial Recruiting
DESCRIPTION:Join Moderator John Carroll\, Growth Strategist\, Consultant and President of Unlimited Performance\, Inc. as he leads an engaging conversation with MPCC member Jamiel Kadri\, President and Founder of Fulcrum Staffing Accounting and Financial Recruiting.  \n\n\n\nRegister in advance for this webinar:\n\nhttps://us02web.zoom.us/webinar/register/WN_aJxHBx92QzGpJP-mBf0qxA\n\n\n\nAfter registering\, you will receive a confirmation email containing information about joining the webinar.
X-ALT-DESC;FMTTYPE=text/html:<span style="font-family:verdana\;">Join Moderator John Carroll\, Growth Strategist\, Consultant and President of Unlimited Performance\, Inc. as he leads an engaging conversation with MPCC member Jamiel Kadri\, President and Founder of Fulcrum Staffing Accounting and Financial Recruiting.&nbsp\;&nbsp\;<br />\n<br />\nRegister in advance for this webinar:<br />\n<strong><a href="https://us02web.zoom.us/webinar/register/WN_aJxHBx92QzGpJP-mBf0qxA">https://us02web.zoom.us/webinar/register/WN_aJxHBx92QzGpJP-mBf0qxA</a></strong><br />\n<br />\nAfter registering\, you will receive a confirmation email containing information about joining the webinar.</span>
LOCATION:
UID:e.3610.419
SEQUENCE:3
DTSTAMP:20260420T190415Z
URL:https://business.mountpleasantchamber.org/events/details/the-pivot-fulcrum-staffing-accounting-and-financial-recruiting-419
END:VEVENT

END:VCALENDAR
