BEGIN:VCALENDAR
VERSION:2.0
PRODID:-//ChamberMaster//Event Calendar 2.0//EN
METHOD:PUBLISH
X-PUBLISHED-TTL:P3D
REFRESH-INTERVAL:P3D
CALSCALE:GREGORIAN
BEGIN:VEVENT
DTSTART:20200602T193000Z
DTEND:20200602T203000Z
X-MICROSOFT-CDO-ALLDAYEVENT:FALSE
SUMMARY:The Pivot: Focusing on Mental Health
DESCRIPTION:Please join the Mount Pleasant Chamber of Commerce for a special focus on mental health during the COVID 19 pandemic.   Moderator is John Carroll\, Strategist\, Growth Consultant and President\, Unlimited Performance\, Inc.\n\n\n\n\n\nRegister in advance for this webinar:\n\n\n\nhttps://us02web.zoom.us/webinar/register/WN_ZjcZrxOUTEyGfcnYDzZpiw\n\n\n\n\n\nAfter registering\, you will receive a confirmation email containing information about joining the webinar.
X-ALT-DESC;FMTTYPE=text/html:Please join the Mount Pleasant Chamber of Commerce for a special focus on mental health during the COVID 19 pandemic.&nbsp\; &nbsp\;Moderator is John Carroll\, Strategist\, Growth Consultant and President\, Unlimited Performance\, Inc.<br />\n<br />\n<br />\nRegister in advance for this webinar:<br />\n<br />\n<strong><a href="https://us02web.zoom.us/webinar/register/WN_ZjcZrxOUTEyGfcnYDzZpiw">https://us02web.zoom.us/webinar/register/WN_ZjcZrxOUTEyGfcnYDzZpiw</a></strong><br />\n<br />\n<br />\nAfter registering\, you will receive a confirmation email containing information about joining the webinar.
LOCATION:
UID:e.3610.331
SEQUENCE:3
DTSTAMP:20260420T081246Z
URL:https://business.mountpleasantchamber.org/events/details/the-pivot-focusing-on-mental-health-331
END:VEVENT

END:VCALENDAR
