BEGIN:VCALENDAR
VERSION:2.0
PRODID:-//ChamberMaster//Event Calendar 2.0//EN
METHOD:PUBLISH
X-PUBLISHED-TTL:P3D
REFRESH-INTERVAL:P3D
CALSCALE:GREGORIAN
BEGIN:VEVENT
DTSTART:20200804T193000Z
DTEND:20200804T203000Z
X-MICROSOFT-CDO-ALLDAYEVENT:FALSE
SUMMARY:The Pivot: Economic Realities of Covid-19 with
DESCRIPTION:Join Moderator John Carroll\, Growth Strategist\, Consultant and President of Unlimited Performance\, Inc. as he leads an engaging conversation with different panelists each week on topics relevant to living and working during the COVID 19 pandemic.  This week we talk about the economic realities of Covid-10 with Cathy Easley\, Director of Integrated Community Systems at Trident United Way and George Roberts\, President and CEO of East Cooper Meals on Wheels.\n\n\n\nRegister in advance for this webinar:\n\nhttps://us02web.zoom.us/webinar/register/WN_lbHQYzxuQe-XSmK-5yBb3Q
X-ALT-DESC;FMTTYPE=text/html:<span style="font-family:verdana\;">Join Moderator John Carroll\, Growth Strategist\, Consultant and President of Unlimited Performance\, Inc. as he leads an engaging conversation with different panelists each week on topics relevant to living and working during the COVID 19 pandemic.&nbsp\; This week we talk about the economic realities of Covid-10 with Cathy Easley\, Director of Integrated Community Systems at Trident United Way and George Roberts\, President and CEO of East Cooper Meals on Wheels.<br />\n<br />\nRegister in advance for this webinar:<br />\n<strong><a href="https://us02web.zoom.us/webinar/register/WN_lbHQYzxuQe-XSmK-5yBb3Q">https://us02web.zoom.us/webinar/register/WN_lbHQYzxuQe-XSmK-5yBb3Q</a></strong></span>
LOCATION:
UID:e.3610.358
SEQUENCE:3
DTSTAMP:20260420T123955Z
URL:https://business.mountpleasantchamber.org/events/details/the-pivot-economic-realities-of-covid-19-with-358
END:VEVENT

END:VCALENDAR
