BEGIN:VCALENDAR
VERSION:2.0
PRODID:-//ChamberMaster//Event Calendar 2.0//EN
METHOD:PUBLISH
X-PUBLISHED-TTL:P3D
REFRESH-INTERVAL:P3D
CALSCALE:GREGORIAN
BEGIN:VEVENT
DTSTART:20201110T171500Z
DTEND:20201110T180000Z
X-MICROSOFT-CDO-ALLDAYEVENT:FALSE
SUMMARY:The Pivot: American Marketing Association
DESCRIPTION:Join Host John Carroll and members of the Leadership Team of the Charleston Chapter of the American Marketing Association as they have an engaging and insightful conversation about how marketers have pivoted during COVID 19.\n\n\n\nRegister in advance for this webinar:\n\nhttps://us02web.zoom.us/webinar/register/WN_R5zXCjtCTO2f1_BrtvIkXA
X-ALT-DESC;FMTTYPE=text/html:<br />\n<span style="font-family: verdana\;">Join Host John Carroll and members of the Leadership Team of the Charleston Chapter of the American Marketing Association as they have an engaging and insightful conversation about how marketers have pivoted during COVID 19.</span><br />\n<br />\n<span style="font-family: verdana\;">Register in advance for this webinar:</span><br />\n<strong><span style="font-family:verdana\;"><a href="https://us02web.zoom.us/webinar/register/WN_R5zXCjtCTO2f1_BrtvIkXA">https://us02web.zoom.us/webinar/register/WN_R5zXCjtCTO2f1_BrtvIkXA</a></span></strong>
LOCATION:
UID:e.3610.394
SEQUENCE:3
DTSTAMP:20260420T154723Z
URL:https://business.mountpleasantchamber.org/events/details/the-pivot-american-marketing-association-394
END:VEVENT

END:VCALENDAR
