BEGIN:VCALENDAR
VERSION:2.0
PRODID:-//ChamberMaster//Event Calendar 2.0//EN
METHOD:PUBLISH
X-PUBLISHED-TTL:P3D
REFRESH-INTERVAL:P3D
CALSCALE:GREGORIAN
BEGIN:VEVENT
DTSTART:20200922T193000Z
DTEND:20200922T203000Z
X-MICROSOFT-CDO-ALLDAYEVENT:FALSE
SUMMARY:The Pivot
DESCRIPTION:Join Moderator John Carroll\, Growth Strategist\, Consultant and President of Unlimited Performance\, Inc. as he leads an engaging conversation with different panelists each week on topics relevant to living and working during the COVID 19 pandemic. John will talk with Ken French\, Crews Subaru Marketing and Event Manager\, about how Crews Subaru Charleston has pivoted during COVID 19 to support our community\, such as sponsoring the Mount Pleasant Chamber of Commerce (MPCC) Expo\, and keep Crews Subaru Charleston thriving.\n\n\n\nRegister in advance for this webinar:\n\nhttps://us02web.zoom.us/webinar/register/WN_1qRJevXvSs28uzqdl5rGOA
X-ALT-DESC;FMTTYPE=text/html:<span style="font-family:verdana\;">Join Moderator John Carroll\, Growth Strategist\, Consultant and President of Unlimited Performance\, Inc. as he leads an engaging conversation with different panelists each week on topics relevant to living and working during the COVID 19 pandemic. John will talk with Ken French\, Crews Subaru Marketing and Event Manager\, about how Crews Subaru Charleston has pivoted during COVID 19 to support our community\, such as sponsoring the Mount Pleasant Chamber of Commerce (MPCC) Expo\, and keep Crews Subaru Charleston thriving.</span><br />\n<br />\n<span style="font-family:verdana\;">Register in advance for this webinar:</span><br />\n<strong><a href="https://us02web.zoom.us/webinar/register/WN_1qRJevXvSs28uzqdl5rGOA">https://us02web.zoom.us/webinar/register/WN_1qRJevXvSs28uzqdl5rGOA</a></strong><br />\n&nbsp\;
LOCATION:
UID:e.3610.369
SEQUENCE:3
DTSTAMP:20260420T123441Z
URL:https://business.mountpleasantchamber.org/events/details/the-pivot-369
END:VEVENT

END:VCALENDAR
