BEGIN:VCALENDAR
VERSION:2.0
PRODID:-//ChamberMaster//Event Calendar 2.0//EN
METHOD:PUBLISH
X-PUBLISHED-TTL:P3D
REFRESH-INTERVAL:P3D
CALSCALE:GREGORIAN
BEGIN:VEVENT
DTSTART:20210114T180000Z
DTEND:20210114T230000Z
X-MICROSOFT-CDO-ALLDAYEVENT:FALSE
SUMMARY:Serendipity Labs Mount Pleasant -Grand Opening Open House & Private Tours
DESCRIPTION:You are invited to be one of the first to tour and experience our premier workspace with stunning views of the Charleston Harbor and Arthur Ravenel\, Jr. Bridge. \n\n\n\nLight food and refreshments will be served.\n\n\n\nTours will be scheduled on site\, every fifteen minutes with limited group sizes.  Social distancing will be enforced and masks are required.  To reserve your space for this event\, please visit here. \n\n\n\nAll attendees that supply a business card will be entered into our raffle with the Grand Prize of a six (6) month private office membership awaiting the winner!\n\n\n\nIf you are unable to attend\, but would like to private tour\, please contact me directly at 703.628.2675 or via e-mail at Matthew.Cunningham@serendipitylabs.com.
X-ALT-DESC;FMTTYPE=text/html:<span style="font-family:verdana\;">You are invited to be one of the first to tour and experience our premier workspace with stunning views of the Charleston Harbor and Arthur Ravenel\, Jr. Bridge.&nbsp\;<br />\n<br />\nLight food and refreshments will be served.<br />\n<br />\nTours will be scheduled on site\, every fifteen minutes with limited group sizes.&nbsp\; Social distancing will be enforced and masks are required.&nbsp\; To reserve your space for this event\, please visit <strong><a href="https://www.eventbrite.com/e/serendipity-labs-mount-pleasant-grand-opening-tickets-133897847065">here</a></strong>.&nbsp\;<br />\n<br />\nAll attendees that supply a business card will be entered into our raffle with the Grand Prize of a six (6) month private office membership awaiting the winner!<br />\n<br />\nIf you are unable to attend\, but would like to private tour\, please contact me directly at 703.628.2675 or via e-mail at <strong><a href="mailto:Matthew.Cunningham@serendipitylabs.com">Matthew.Cunningham@serendipitylabs.com</a></strong>.&nbsp\;</span><br />\n&nbsp\;
LOCATION:Portside at Ferry Wharf 75 Port City Landing\, Suite 110 Mount Pleasant\, SC 29464
UID:e.3610.425
SEQUENCE:3
DTSTAMP:20260420T190349Z
URL:https://business.mountpleasantchamber.org/events/details/serendipity-labs-mount-pleasant-grand-opening-open-house-private-tours-425
END:VEVENT

END:VCALENDAR
