BEGIN:VCALENDAR
VERSION:2.0
PRODID:-//ChamberMaster//Event Calendar 2.0//EN
METHOD:PUBLISH
X-PUBLISHED-TTL:P3D
REFRESH-INTERVAL:P3D
CALSCALE:GREGORIAN
BEGIN:VEVENT
DTSTART:20210426T220000Z
DTEND:20210426T233000Z
X-MICROSOFT-CDO-ALLDAYEVENT:FALSE
SUMMARY:SCORE: Why Be Certified Small Business Webinar
DESCRIPTION:Join a panel of experts from the City of Charleston's M&WBE Office and the State Division of Small and Minority Business Contracting and Certification to hear about the different types of minority business certifications and the benefits of being certified.\n\n\n\nLearn about: Pros & cons of certification\, application processes\, contracting & procurement\, technical assistance\, and growing your business.\n\n\n\nQuestions? Contact Business Services at authc@charleston-sc.gov or (843) 697-5273.\n\n\n\nREGISTER HERE!
X-ALT-DESC;FMTTYPE=text/html:<span style="font-family:verdana\;">Join a panel of experts from the City of Charleston&rsquo\;s M&amp\;WBE Office and the State Division of Small and Minority Business Contracting and Certification to hear about the different types of minority business certifications and the benefits of being certified.<br />\n<br />\nLearn about: Pros &amp\; cons of certification\, application processes\, contracting &amp\; procurement\, technical assistance\, and growing your business.<br />\n<br />\nQuestions? Contact Business Services at authc@charleston-sc.gov or (843) 697-5273.<br />\n<br />\n<strong><a href="https://us02web.zoom.us/webinar/register/WN_GcjcYA5jTly9BigRpGxTFg">REGISTER HERE</a></strong>!</span>
LOCATION:
UID:e.3610.459
SEQUENCE:3
DTSTAMP:20260421T002245Z
URL:https://business.mountpleasantchamber.org/events/details/score-why-be-certified-small-business-webinar-459
END:VEVENT

END:VCALENDAR
