BEGIN:VCALENDAR
VERSION:2.0
PRODID:-//ChamberMaster//Event Calendar 2.0//EN
METHOD:PUBLISH
X-PUBLISHED-TTL:P3D
REFRESH-INTERVAL:P3D
CALSCALE:GREGORIAN
BEGIN:VEVENT
DTSTART:20231206T180000Z
DTEND:20231206T193000Z
X-MICROSOFT-CDO-ALLDAYEVENT:FALSE
SUMMARY:SCORE: How to Write a One Page Business Plan Webinar
DESCRIPTION:In this webinar\, you will learn how to write a one-page business plan for your business. We'll also discuss how writing a one-page business plan can help you organize your ideas and allow you to be focused and concise about your business goals. \n\n\n\nREGISTER HERE
X-ALT-DESC;FMTTYPE=text/html:In this webinar\, you will learn how to write a one-page business plan for your business. We&#39\;ll also discuss how writing a one-page business plan can help you organize your ideas and allow you to be focused and concise about your business goals.&nbsp\;<br />\n<br />\n<u><strong><a href="https://readytalk.webcasts.com/starthere.jsp?ei=1641848&amp\;tp_key=8a3d5bbc75&amp\;sti=scoreeventpage">REGISTER HERE</a></strong></u>
LOCATION:
UID:e.3610.1684
SEQUENCE:3
DTSTAMP:20260425T212252Z
URL:https://business.mountpleasantchamber.org/events/details/score-how-to-write-a-one-page-business-plan-webinar-1684
END:VEVENT

END:VCALENDAR
