BEGIN:VCALENDAR
VERSION:2.0
PRODID:-//ChamberMaster//Event Calendar 2.0//EN
METHOD:PUBLISH
X-PUBLISHED-TTL:P3D
REFRESH-INTERVAL:P3D
CALSCALE:GREGORIAN
BEGIN:VEVENT
DTSTART:20200722T180000Z
DTEND:20200722T190000Z
X-MICROSOFT-CDO-ALLDAYEVENT:FALSE
SUMMARY:SCORE Charleston: How to Locate Potential Grants for your Non-Profit
DESCRIPTION:The MPCC is fortunate to have Charleston SC SCORE as one of our members.  They are offering a free webinar "How to locate potential grants for your non-profit and overview on writing a cover letter\, executive summary\, statement of need\, project narrative and budget."   The presenter is Charlotte Gray\, President of Lancaster & Rose\, a strategic support services and consulting firm for non-profits of all philanthropic sectors.\n\n\n\n\n\nHere is the link to register:  https://charlestonsc.score.org/content/take-workshop-217
X-ALT-DESC;FMTTYPE=text/html:The MPCC is fortunate to have Charleston SC SCORE as one of our members.&nbsp\; They are offering a free webinar &ldquo\;How to locate potential grants for your non-profit and overview on writing a cover letter\, executive summary\, statement of need\, project narrative and budget.&rdquo\;&nbsp\; &nbsp\;The presenter is Charlotte Gray\, President of Lancaster &amp\; Rose\, a strategic support services and consulting firm for non-profits of all philanthropic sectors.<br />\n<br />\n<br />\nHere is the link to register:&nbsp\; <strong><a href="https://charlestonsc.score.org/content/take-workshop-217">https://charlestonsc.score.org/content/take-workshop-217</a></strong>
LOCATION:
UID:e.3610.353
SEQUENCE:3
DTSTAMP:20260420T094135Z
URL:https://business.mountpleasantchamber.org/events/details/score-charleston-how-to-locate-potential-grants-for-your-non-profit-353
END:VEVENT

END:VCALENDAR
