BEGIN:VCALENDAR
VERSION:2.0
PRODID:-//ChamberMaster//Event Calendar 2.0//EN
METHOD:PUBLISH
X-PUBLISHED-TTL:P3D
REFRESH-INTERVAL:P3D
CALSCALE:GREGORIAN
BEGIN:VEVENT
DTSTART:20210414T153000Z
DTEND:20210414T170000Z
X-MICROSOFT-CDO-ALLDAYEVENT:FALSE
SUMMARY:SCORE: Are You Ready to Start a Business?
DESCRIPTION:SCORE's "ARE YOU READY TO START A BUSINESS?" webinar will cover all the important aspects you need to consider when planning to start a business:\n\n\n\n1) Your personal traits\n\n2) Testing the business concept\n\n3) Developing a marketing & business plan\n\n4) Financial considerations\n\n5) Resources available to support success.\n\n\n\nThis is a webinar. Your recommended device is a personal computer or tablet.\n\n \n\nREGISTER NOW !
X-ALT-DESC;FMTTYPE=text/html:<span style="font-family:verdana\;">SCORE&#39\;s &quot\;ARE YOU READY TO START A BUSINESS?&quot\; webinar will cover all the important aspects you need to consider when planning to start a business:<br />\n<br />\n1) Your personal traits<br />\n2) Testing the business concept<br />\n3) Developing a marketing &amp\; business plan<br />\n4) Financial considerations<br />\n5) Resources available to support success.<br />\n<br />\nThis is a webinar. Your recommended device is a personal computer or tablet.<br />\n&nbsp\;<br />\n<strong><a href="https://events.r20.constantcontact.com/register/eventReg?oeidk=a07ehp7wh8d5b400d5d&amp\;oseq=&amp\;c=&amp\;ch=">REGISTER NOW !</a></strong></span>
LOCATION:
UID:e.3610.458
SEQUENCE:3
DTSTAMP:20260421T002941Z
URL:https://business.mountpleasantchamber.org/events/details/score-are-you-ready-to-start-a-business-458
END:VEVENT

END:VCALENDAR
