BEGIN:VCALENDAR
VERSION:2.0
PRODID:-//ChamberMaster//Event Calendar 2.0//EN
METHOD:PUBLISH
X-PUBLISHED-TTL:P3D
REFRESH-INTERVAL:P3D
CALSCALE:GREGORIAN
BEGIN:VEVENT
DTSTART:20200805T150000Z
DTEND:20200805T160000Z
X-MICROSOFT-CDO-ALLDAYEVENT:FALSE
SUMMARY:SBDC: Strategic Marketing Now More Than Ever Webinar
DESCRIPTION:The impact of COVID 19 may require your business to change or modify to fit a changing market. Creating an effective marketing strategy for your business NOW can help you regain your customer base and properly position you for future growth. An effective marketing plan includes market definition\, goals/objectives\, strategies\, branding\, a budget and timelines. Learn how to put these elements together and deliver your products and services to your customers effectively and efficiently. Learn the basics of creating an effective marketing plan during this one-hour webinar hosted by the SC SBDC.\n\n\n\nPresenter:\n\nJim Wetzel joined the Charleston Area Small Business Development Center (SBDC) as a Business Consultant in 2018 after a 40-year career in corporate Marketing and Sales.\n\n\n\nREGISTER HERE
X-ALT-DESC;FMTTYPE=text/html:<span style="font-family:verdana\;">The impact of COVID 19 may require your business to change or modify to fit a changing market. Creating an effective marketing strategy for your business NOW can help you regain your customer base and properly position you for future growth. An effective marketing plan includes market definition\, goals/objectives\, strategies\, branding\, a budget and timelines. Learn how to put these elements together and deliver your products and services to your customers effectively and efficiently. Learn the basics of creating an effective marketing plan during this one-hour webinar hosted by the SC SBDC.<br />\n<br />\nPresenter:<br />\nJim Wetzel joined the Charleston Area Small Business Development Center (SBDC) as a Business Consultant in 2018 after a 40-year career in corporate Marketing and Sales.</span><br />\n<br />\n<span style="font-family:verdana\;"><strong><a href="https://scsbdc.ecenterdirect.com/events/314794">REGISTER HERE</a></strong></span>
LOCATION:
UID:e.3610.350
SEQUENCE:3
DTSTAMP:20260420T111114Z
URL:https://business.mountpleasantchamber.org/events/details/sbdc-strategic-marketing-now-more-than-ever-webinar-350
END:VEVENT

END:VCALENDAR
