BEGIN:VCALENDAR
VERSION:2.0
PRODID:-//ChamberMaster//Event Calendar 2.0//EN
METHOD:PUBLISH
X-PUBLISHED-TTL:P3D
REFRESH-INTERVAL:P3D
CALSCALE:GREGORIAN
BEGIN:VEVENT
DTSTART:20200608T140000Z
DTEND:20200608T150000Z
X-MICROSOFT-CDO-ALLDAYEVENT:FALSE
SUMMARY:SBDC: Reopening your business? What should be on your checklist?
DESCRIPTION:Staffing. Ability to replenish inventory. Social Distancing. Training. Rules. Signage. Vendors and supply chain. Accurate record-keeping. These are considerations business owners need to plan for when reopening a business in the post-COVID 19 economy. Join SBDC Business Consultant Martin Goodman as he presents a checklist of items to reopen a business successfully following the COVID 19 pandemic. This free\, online\, webinar is hosted by the Charleston\, SC\, Area SBDC for business owners.\n\n\n\nTime will be allotted for Q&A.\n\n\n\nPresenter:\n\nMartin Goodman - Area Manager and Business Consultant\, Beaufort SBDC\n\n\n\nREGISTER HERE
X-ALT-DESC;FMTTYPE=text/html:Staffing. Ability to replenish inventory. Social Distancing. Training. Rules. Signage. Vendors and supply chain. Accurate record-keeping. These are considerations business owners need to plan for when reopening a business in the post-COVID 19 economy. Join SBDC Business Consultant Martin Goodman as he presents a checklist of items to reopen a business successfully following the COVID 19 pandemic. This free\, online\, webinar is hosted by the Charleston\, SC\, Area SBDC for business owners.<br />\n<br />\nTime will be allotted for Q&amp\;A.<br />\n<br />\nPresenter:<br />\nMartin Goodman - Area Manager and Business Consultant\, Beaufort SBDC<br />\n<br />\n<strong><a href="https://scsbdc.ecenterdirect.com/events/314776">REGISTER HERE</a></strong>
LOCATION:Zoom
UID:e.3610.329
SEQUENCE:3
DTSTAMP:20260420T081200Z
URL:https://business.mountpleasantchamber.org/events/details/sbdc-reopening-your-business-what-should-be-on-your-checklist-329
END:VEVENT

END:VCALENDAR
