BEGIN:VCALENDAR
VERSION:2.0
PRODID:-//ChamberMaster//Event Calendar 2.0//EN
METHOD:PUBLISH
X-PUBLISHED-TTL:P3D
REFRESH-INTERVAL:P3D
CALSCALE:GREGORIAN
BEGIN:VEVENT
DTSTART:20200618T140000Z
DTEND:20200618T150000Z
X-MICROSOFT-CDO-ALLDAYEVENT:FALSE
SUMMARY:SBDC: PPP Funding-How do I Seek Forgiveness?
DESCRIPTION:Join the Charleston Area SBDC and SBA and learn what\n\nsteps are necessary to seek forgiveness for your PPP\n\nfunding. What documentation do you need to provide? How\n\nlong do you have to file your forgiveness claim? Who do you\n\nrequest forgiveness from? These are just some of the\n\nquestions that will be answered during the one-hour\, free\,\n\nonline training event hosted by the Charleston Area SBDC.\n\nAny business who has an active PPP application or who has\n\nalready received funds should not miss this opportunity.\n\n\n\nREGISTER HERE\n\nScheduled Presenters:\n\nDarrell Jones\, USC Region Director\, SC SBDC\n\nWilliam Furman\, Coastal Area Manager\, SBA\n\nTo learn more\, visit www.charlestonsbdc.com or\n\nCall 843-740-6160.
X-ALT-DESC;FMTTYPE=text/html:Join the Charleston Area SBDC and SBA and learn what<br />\nsteps are necessary to seek forgiveness for your PPP<br />\nfunding. What documentation do you need to provide? How<br />\nlong do you have to file your forgiveness claim? Who do you<br />\nrequest forgiveness from? These are just some of the<br />\nquestions that will be answered during the one-hour\, free\,<br />\nonline training event hosted by the Charleston Area SBDC.<br />\nAny business who has an active PPP application or who has<br />\nalready received funds should not miss this opportunity.<br />\n<br />\n<strong><a href="https://scsbdc.ecenterdirect.com/events/314759">REGISTER HERE</a></strong><br />\nScheduled Presenters:<br />\nDarrell Jones\, USC Region Director\, SC SBDC<br />\nWilliam Furman\, Coastal Area Manager\, SBA<br />\nTo learn more\, visit <strong><a href="https://www.scsbdc.com/">www.charlestonsbdc.com</a></strong> or<br />\nCall 843-740-6160.
LOCATION:Zoom
UID:e.3610.323
SEQUENCE:3
DTSTAMP:20260420T081031Z
URL:https://business.mountpleasantchamber.org/events/details/sbdc-ppp-funding-how-do-i-seek-forgiveness-323
END:VEVENT

END:VCALENDAR
