BEGIN:VCALENDAR
VERSION:2.0
PRODID:-//ChamberMaster//Event Calendar 2.0//EN
METHOD:PUBLISH
X-PUBLISHED-TTL:P3D
REFRESH-INTERVAL:P3D
CALSCALE:GREGORIAN
BEGIN:VEVENT
DTSTART:20200604T140000Z
DTEND:20200604T150000Z
X-MICROSOFT-CDO-ALLDAYEVENT:FALSE
SUMMARY:SBDC: Marketing in a New World
DESCRIPTION:Small Businesses tend to have a harder time being heard in\n\na world of large marketing budgets. After a pandemic and\n\nglobal shut down\, the need to be heard is even larger. How\n\ncan you be heard without spending tens of thousands? We\n\nwill break down how to strategically spend your marketing\n\ndollars as the economy reopens to ensure your money is not\n\nthrown away and your voice is heard above the noise. Join\n\nus for this free\, one-hour\, webinar hosted by the Charleston\n\nArea SBDC and featuring Alan Thompson\, founder of\n\nStingray Branding.\n\n\n\nREGISTER HERE\n\nSpeaker:\n\nAlan Thompson has worked around small business owners\n\nand entrepreneurs his entire life. With a family owning small\n\nbusinesses 3 generations deep\, it was an obvious path for\n\nAlan. He launched Stingray Branding in 2008 and founded\n\ntwo non-profits\, the North Charleston Chamber and Great\n\nBusiness Networking.\n\nTo learn more\, visit www.charlestonsbdc.com or\n\ncall 843-740-6160.
X-ALT-DESC;FMTTYPE=text/html:Small Businesses tend to have a harder time being heard in<br />\na world of large marketing budgets. After a pandemic and<br />\nglobal shut down\, the need to be heard is even larger. How<br />\ncan you be heard without spending tens of thousands? We<br />\nwill break down how to strategically spend your marketing<br />\ndollars as the economy reopens to ensure your money is not<br />\nthrown away and your voice is heard above the noise. Join<br />\nus for this free\, one-hour\, webinar hosted by the Charleston<br />\nArea SBDC and featuring Alan Thompson\, founder of<br />\nStingray Branding.<br />\n<br />\n<strong><a href="https://scsbdc.ecenterdirect.com/events/314758">REGISTER HERE</a></strong><br />\nSpeaker:<br />\nAlan Thompson has worked around small business owners<br />\nand entrepreneurs his entire life. With a family owning small<br />\nbusinesses 3 generations deep\, it was an obvious path for<br />\nAlan. He launched Stingray Branding in 2008 and founded<br />\ntwo non-profits\, the North Charleston Chamber and Great<br />\nBusiness Networking.<br />\nTo learn more\, visit <strong><a href="https://www.scsbdc.com/">www.charlestonsbdc.com</a></strong> or<br />\ncall 843-740-6160.
LOCATION:Zoom
UID:e.3610.322
SEQUENCE:3
DTSTAMP:20260420T093703Z
URL:https://business.mountpleasantchamber.org/events/details/sbdc-marketing-in-a-new-world-322
END:VEVENT

END:VCALENDAR
