BEGIN:VCALENDAR
VERSION:2.0
PRODID:-//ChamberMaster//Event Calendar 2.0//EN
METHOD:PUBLISH
X-PUBLISHED-TTL:P3D
REFRESH-INTERVAL:P3D
CALSCALE:GREGORIAN
BEGIN:VEVENT
DTSTART:20200825T140000Z
DTEND:20200825T150000Z
X-MICROSOFT-CDO-ALLDAYEVENT:FALSE
SUMMARY:SBDC eCommerce: An important online sales tool for small business in the new economy-Webinar
DESCRIPTION:Are you looking for ways to increase sales during the COVID 19 pandemic? Would you like to sell your products or services online?  eCommerce is an important tool for your small business sales plan. Learn about the marketing strategies\, social media platforms and website tools that make eCommerce effective for your small business. Join us for this one-hour\, free webinar\, hosted by the SC SBDC. Time will be allotted for Q & A.\n\n\n\nPresenters:\n\nAlan Thompson has worked with small business owners and entrepreneurs his entire life. He launched Stingray Branding in 2008 and founded two non-profits\, the North Charleston Chamber and Great Business Networking.\n\n\n\nREGISTER HERE
X-ALT-DESC;FMTTYPE=text/html:Are you looking for ways to increase sales during the COVID 19 pandemic? Would you like to sell your products or services online?&nbsp\; eCommerce is an important tool for your small business sales plan. Learn about the marketing strategies\, social media platforms and website tools that make eCommerce effective for your small business. Join us for this one-hour\, free webinar\, hosted by the SC SBDC. Time will be allotted for Q &amp\; A.<br />\n<br />\nPresenters:<br />\nAlan Thompson has worked with small business owners and entrepreneurs his entire life. He launched Stingray Branding in 2008 and founded two non-profits\, the North Charleston Chamber and Great Business Networking.<br />\n<br />\n<strong><a href="https://scsbdc.ecenterdirect.com/events/314791">REGISTER HERE</a></strong>
LOCATION:
UID:e.3610.351
SEQUENCE:3
DTSTAMP:20260420T111615Z
URL:https://business.mountpleasantchamber.org/events/details/sbdc-ecommerce-an-important-online-sales-tool-for-small-business-in-the-new-economy-webinar-351
END:VEVENT

END:VCALENDAR
