BEGIN:VCALENDAR
VERSION:2.0
PRODID:-//ChamberMaster//Event Calendar 2.0//EN
METHOD:PUBLISH
X-PUBLISHED-TTL:P3D
REFRESH-INTERVAL:P3D
CALSCALE:GREGORIAN
BEGIN:VEVENT
DTSTART:20200728T140000Z
DTEND:20200728T150000Z
X-MICROSOFT-CDO-ALLDAYEVENT:FALSE
SUMMARY:SBDC: Covid Relief Tax Credit Workshop Webinar
DESCRIPTION:There are two certainties right now:  taxes and Covid.  Join Evette Davis (IRS) and Savannah Wilburn (SBA) for a Zoom webinar about your business navigating both.  Take advantage of economic relief.\n\n\n\nREGISTER HERE
X-ALT-DESC;FMTTYPE=text/html:<span style="font-family:verdana\;">There are two certainties right now:&nbsp\; taxes and Covid.&nbsp\; Join Evette Davis (IRS) and Savannah Wilburn (SBA) for a Zoom webinar about your business navigating both.&nbsp\; Take advantage of economic relief.</span><br />\n<br />\n<span style="font-family:verdana\;"><strong><a href="https://scsbdc.ecenterdirect.com/events/314788">REGISTER HERE</a></strong></span>
LOCATION:
UID:e.3610.349
SEQUENCE:3
DTSTAMP:20260420T110624Z
URL:https://business.mountpleasantchamber.org/events/details/sbdc-covid-relief-tax-credit-workshop-webinar-349
END:VEVENT

END:VCALENDAR
