BEGIN:VCALENDAR
VERSION:2.0
PRODID:-//ChamberMaster//Event Calendar 2.0//EN
METHOD:PUBLISH
X-PUBLISHED-TTL:P3D
REFRESH-INTERVAL:P3D
CALSCALE:GREGORIAN
BEGIN:VEVENT
DTSTART:20260113T190000Z
DTEND:20260113T200000Z
X-MICROSOFT-CDO-ALLDAYEVENT:FALSE
SUMMARY:Ribbon Cutting - Grace Music School
DESCRIPTION:Please join us for a ribbon-cutting ceremony for Grace Music School! \n\n\n\nThey provide private music lessons on all instruments for all ages. They will also rent out musical instruments and sell music accessories.
X-ALT-DESC;FMTTYPE=text/html:Please join us for a ribbon-cutting ceremony for Grace Music School!&nbsp\;<br />\n<br />\nThey provide private music lessons on all instruments for all ages. They will also rent out musical instruments and sell music accessories.&nbsp\;
LOCATION:901 Warrior Way\, Mount Pleasant\, SC
UID:e.3610.3205
SEQUENCE:3
DTSTAMP:20260420T113454Z
URL:https://business.mountpleasantchamber.org/events/details/ribbon-cutting-grace-music-school-3205
END:VEVENT

END:VCALENDAR
