BEGIN:VCALENDAR
VERSION:2.0
PRODID:-//ChamberMaster//Event Calendar 2.0//EN
METHOD:PUBLISH
X-PUBLISHED-TTL:P3D
REFRESH-INTERVAL:P3D
CALSCALE:GREGORIAN
BEGIN:VEVENT
DTSTART:20201120T183000Z
DTEND:20201120T190000Z
X-MICROSOFT-CDO-ALLDAYEVENT:FALSE
SUMMARY:Ribbon-Cutting for Straccio Rico
DESCRIPTION:
X-ALT-DESC;FMTTYPE=text/html:
LOCATION:1405 Ben Sawyer Blvd #102\, Mount Pleasant\, SC 29464
UID:e.3610.410
SEQUENCE:3
DTSTAMP:20260420T154545Z
URL:https://business.mountpleasantchamber.org/events/details/ribbon-cutting-for-straccio-rico-410
END:VEVENT

END:VCALENDAR
