BEGIN:VCALENDAR
VERSION:2.0
PRODID:-//ChamberMaster//Event Calendar 2.0//EN
METHOD:PUBLISH
X-PUBLISHED-TTL:P3D
REFRESH-INTERVAL:P3D
CALSCALE:GREGORIAN
BEGIN:VEVENT
DTSTART:20210429T180000Z
DTEND:20210429T193000Z
X-MICROSOFT-CDO-ALLDAYEVENT:FALSE
SUMMARY:Restaurant Revitalization Fund Charleston: What You Need to Know
DESCRIPTION:WEBINAR INVITATION\n\n \n\n\nThursday\, April 29th\n\n2:00PM - 3:30PM EST\n\n \n\nJoin SBA\, the SC Small Business Development Center\, SCORE -Charleston Chapter\, and the I-HOPE Women's Business Center to learn about the new Restaurant Revitalization Fund Program and the resources available to help your business.\n\n \n\nThis program provides emergency assistance for eligible restaurants\, bars\, and other qualifying businesses impacted by COVID-19.\n\n \n\nLearning Topics: Who Can apply\; How to apply\; When to Apply\; Documents needed to apply\; How to calculate potential fund amount.\n\n \n\nREGISTRATION LINK
X-ALT-DESC;FMTTYPE=text/html:<div><strong>WEBINAR INVITATION</strong></div>\n\n<div>&nbsp\;</div>\n\n<div>\n<div><strong>Thursday\, April 29th</strong></div>\n\n<div><strong>2:00PM - 3:30PM EST</strong></div>\n\n<div>&nbsp\;</div>\n\n<div><strong>Join SBA\, the SC Small Business Development Center\, SCORE -Charleston Chapter\, and the I-HOPE Women&rsquo\;s Business Center to learn about the new Restaurant Revitalization Fund Program and the resources available to help your business.</strong></div>\n\n<div>&nbsp\;</div>\n\n<div><strong>This program provides emergency assistance for eligible restaurants\, bars\, and other qualifying businesses impacted by COVID-19.</strong></div>\n\n<div>&nbsp\;</div>\n\n<div><strong>Learning Topics: Who Can apply\; How to apply\; When to Apply\; Documents needed to apply\; How to calculate potential fund amount.</strong></div>\n\n<div>&nbsp\;</div>\n\n<div><strong><a href="https://wbc.increasinghope.org/workshop.aspx?ekey=1410005">REGISTRATION LINK</a></strong></div>\n</div>\n
LOCATION:
UID:e.3610.464
SEQUENCE:3
DTSTAMP:20260421T002921Z
URL:https://business.mountpleasantchamber.org/events/details/restaurant-revitalization-fund-charleston-what-you-need-to-know-464
END:VEVENT

END:VCALENDAR
