BEGIN:VCALENDAR
VERSION:2.0
PRODID:-//ChamberMaster//Event Calendar 2.0//EN
METHOD:PUBLISH
X-PUBLISHED-TTL:P3D
REFRESH-INTERVAL:P3D
CALSCALE:GREGORIAN
BEGIN:VEVENT
DTSTART:20200520T140000Z
DTEND:20200520T150000Z
X-MICROSOFT-CDO-ALLDAYEVENT:FALSE
SUMMARY:PPP Funding - How do I seek forgiveness?
DESCRIPTION:PPP Funding - How do I seek forgiveness? \n\n \n\nJoin the SBDC and SBA for a free webinar and learn what steps are necessary to seek forgiveness for your PPP funding.  What documentation do you need to provide? How long do you have to file your forgiveness claim? Who do you request forgiveness from?  These are just some of the questions that will be answered during the one-hour\, online training event hosted by the Charleston Area SBDC. \n\n \n\nAny business who has an active PPP application or who has already received funds should not miss this opportunity.\n\n \n\nPresenters include:\n\nDarrell Jones\, USC Region Director\, SC SBDC\n\nWilliam Furman\, Coastal Area Manager\, SBA\n\n \n\nFor more information\, call 843-740-6160 or visit www.charlestonsbdc.com
X-ALT-DESC;FMTTYPE=text/html:<p style="margin: 0in 0in 0.0001pt\; font-size: 11pt\; font-family: Calibri\, sans-serif\; line-height: normal\; background: white\;"><span style="font-size: 10pt\; font-family: Arial\, sans-serif\;"><b>PPP Funding - How do I seek forgiveness?&nbsp\;</b></span><br />\n&nbsp\;</p>\n\n<p style="margin: 0in 0in 0.0001pt\; font-size: 11pt\; font-family: Calibri\, sans-serif\; line-height: normal\; background: white\;"><span style="font-family: Arial\, sans-serif\; font-size: 10pt\;">Join the SBDC and SBA for a free webinar and learn what steps are necessary to seek forgiveness for your PPP funding.&nbsp\; What documentation do you need to provide? How long do you have to file your forgiveness claim? Who do you request forgiveness from?&nbsp\; These are just some of the questions that will be answered during the one-hour\, online training event hosted by the Charleston Area SBDC.&nbsp\;</span></p>\n\n<p style="margin: 0in 0in 0.0001pt\; font-size: 11pt\; font-family: Calibri\, sans-serif\; line-height: normal\; background: white\;"><span style="font-size: 10pt\; font-family: Arial\, sans-serif\;">&nbsp\;</span></p>\n\n<p style="margin: 0in 0in 0.0001pt\; font-size: 11pt\; font-family: Calibri\, sans-serif\; line-height: normal\; background: white\;"><span style="font-size: 10pt\; font-family: Verdana\, sans-serif\; background-image: initial\; background-position: initial\; background-size: initial\; background-repeat: initial\; background-attachment: initial\; background-origin: initial\; background-clip: initial\;">Any business who has an active PPP application or who has already received funds should not miss this opportunity.</span></p>\n\n<p style="margin: 0in 0in 0.0001pt\; font-size: 11pt\; font-family: Calibri\, sans-serif\; line-height: normal\; background: white\;"><span style="font-size: 10pt\; font-family: Arial\, sans-serif\;">&nbsp\;</span></p>\n\n<p style="margin: 0in 0in 0.0001pt\; font-size: 11pt\; font-family: Calibri\, sans-serif\; line-height: normal\; background: white\;"><span style="font-size: 10pt\; font-family: Arial\, sans-serif\;"><u>Presenters include:</u></span></p>\n\n<p style="margin: 0in 0in 0.0001pt\; font-size: 11pt\; font-family: Calibri\, sans-serif\; line-height: normal\; background: white\;"><span style="font-size: 10pt\; font-family: Arial\, sans-serif\;">Darrell Jones\, USC Region Director\, SC SBDC</span></p>\n\n<p style="margin: 0in 0in 0.0001pt\; font-size: 11pt\; font-family: Calibri\, sans-serif\; line-height: normal\; background: white\;"><span style="font-size: 10pt\; font-family: Arial\, sans-serif\;">William Furman\, Coastal Area Manager\, SBA</span></p>\n\n<p style="margin: 0in 0in 0.0001pt\; font-size: 11pt\; font-family: Calibri\, sans-serif\; line-height: normal\; background: white\;">&nbsp\;</p>\n\n<p style="margin: 0in 0in 0.0001pt\; font-size: 11pt\; font-family: Calibri\, sans-serif\; line-height: normal\; background: white\;"><span style="font-size: 10pt\; font-family: Arial\, sans-serif\;">For more information\, call 843-740-6160 or visit&nbsp\;<a data-saferedirecturl="https://www.google.com/url?q=http://www.charlestonsbdc.com&amp\;source=gmail&amp\;ust=1588706669310000&amp\;usg=AFQjCNHlEAzGvjNhWdSgjyEMJ8qQcR-oIA" href="http://www.charlestonsbdc.com/" id="m_1034194998929132042LPNoLP839794" style="color: rgb(17\, 85\, 204)\;" target="_blank">www.charlestonsbdc.com</a></span></p>\n
LOCATION:
UID:e.3610.318
SEQUENCE:3
DTSTAMP:20260420T062501Z
URL:https://business.mountpleasantchamber.org/events/details/ppp-funding-how-do-i-seek-forgiveness-318
END:VEVENT

END:VCALENDAR
