BEGIN:VCALENDAR
VERSION:2.0
PRODID:-//ChamberMaster//Event Calendar 2.0//EN
METHOD:PUBLISH
X-PUBLISHED-TTL:P3D
REFRESH-INTERVAL:P3D
CALSCALE:GREGORIAN
BEGIN:VEVENT
DTSTART:20201210T180000Z
DTEND:20201210T183000Z
X-MICROSOFT-CDO-ALLDAYEVENT:FALSE
SUMMARY:Point Hope Dental Clinic Ribbon Cutting
DESCRIPTION:
X-ALT-DESC;FMTTYPE=text/html:
LOCATION:702 Hopewell Dr\, Charleston\, SC 29492
UID:e.3610.414
SEQUENCE:3
DTSTAMP:20260420T190307Z
URL:https://business.mountpleasantchamber.org/events/details/point-hope-dental-clinic-ribbon-cutting-414
END:VEVENT

END:VCALENDAR
