BEGIN:VCALENDAR
VERSION:2.0
PRODID:-//ChamberMaster//Event Calendar 2.0//EN
METHOD:PUBLISH
X-PUBLISHED-TTL:P3D
REFRESH-INTERVAL:P3D
CALSCALE:GREGORIAN
BEGIN:VEVENT
DTSTART:20200307T190000Z
DTEND:20200307T230000Z
X-MICROSOFT-CDO-ALLDAYEVENT:FALSE
SUMMARY:Oysters on the Point with Nu Funk Movement
DESCRIPTION:This once-a-month winter series features locally steamed oysters and a wide selection of other creative dishes\, as well as live music\, a Bloody Mary bar\, plenty of beer choices\, and a variety of local art vendors. It is hosted on Saturday afternoons through March from 2:00 pm   6:00 pm. Live Music from Nu Funk Movement on March 7
X-ALT-DESC;FMTTYPE=text/html:This once-a-month winter series features locally steamed oysters and a wide selection of other creative dishes\, as well as live music\, a Bloody Mary bar\, plenty of beer choices\, and a variety of local art vendors. It is hosted on Saturday afternoons through March from 2:00 pm &ndash\; 6:00 pm. Live Music from Nu Funk Movement on March 7
LOCATION:Charleston Harbor Resort & Marina 20 Patriots Point Road Mt. Pleasant\, SC 29464
UID:e.3610.162
SEQUENCE:3
DTSTAMP:20260420T033119Z
URL:https://business.mountpleasantchamber.org/events/details/oysters-on-the-point-with-nu-funk-movement-162
END:VEVENT

END:VCALENDAR
