BEGIN:VCALENDAR
VERSION:2.0
PRODID:-//ChamberMaster//Event Calendar 2.0//EN
METHOD:PUBLISH
X-PUBLISHED-TTL:P3D
REFRESH-INTERVAL:P3D
CALSCALE:GREGORIAN
BEGIN:VEVENT
DTSTART:20200208T190000Z
DTEND:20200208T230000Z
X-MICROSOFT-CDO-ALLDAYEVENT:FALSE
SUMMARY:Oysters on the Point with Holy City Steel Collective Steel Drums
DESCRIPTION:This once-a-month winter series features locally steamed oysters and a wide selection of other creative dishes\, as well as live music\, a Bloody Mary bar\, plenty of beer choices\, and a variety of local art vendors. Oysters on the Point offers steamed blue crabs this season\, get there early to make sure they don't run out. It is hosted on Saturday afternoons through March from 2:00 pm   6:00 pm. February 8th - Holy City Steel Collective Steel Drums March 7th
X-ALT-DESC;FMTTYPE=text/html:This once-a-month winter series features locally steamed oysters and a wide selection of other creative dishes\, as well as live music\, a Bloody Mary bar\, plenty of beer choices\, and a variety of local art vendors. Oysters on the Point offers steamed blue crabs this season\, get there early to make sure they don&#39\;t run out. It is hosted on Saturday afternoons through March from 2:00 pm &ndash\; 6:00 pm. February 8th - Holy City Steel Collective Steel Drums March 7th
LOCATION:Beach Charleston Harbor Resort & Marina 20 Patriots Point Rd. Mt. Pleasant\, SC 29464
UID:e.3610.8
SEQUENCE:3
DTSTAMP:20260420T021411Z
URL:https://business.mountpleasantchamber.org/events/details/oysters-on-the-point-with-holy-city-steel-collective-steel-drums-8
END:VEVENT

END:VCALENDAR
