BEGIN:VCALENDAR
VERSION:2.0
PRODID:-//ChamberMaster//Event Calendar 2.0//EN
METHOD:PUBLISH
X-PUBLISHED-TTL:P3D
REFRESH-INTERVAL:P3D
CALSCALE:GREGORIAN
BEGIN:VEVENT
DTSTART:20200416T193000Z
DTEND:20200416T203000Z
X-MICROSOFT-CDO-ALLDAYEVENT:FALSE
SUMMARY:My Video + Social: Staying Relevant During a Global Crisis
DESCRIPTION:Before we entered these unprecedented times\, we saw online video consumption and social media usage increase to record numbers. Now because of the global crisis and current stay-at-home orders\, we will see those numbers reach unimaginable levels.\n\n\n\nBefore we entered these unprecedented times\, we saw online video consumption and social media usage increase to record numbers. Now because of the global crisis and current stay-at-home orders\, we will see those numbers reach unimaginable levels.\n\n\n\nThe Founders of Three Chairs are back to discuss how to use video and social media to communicate with your customers. How you can produce affordably creative content yourself\, and how tabling the sales pitch for an empathetic voice will not only be comforting to your customers but good for your brand when the crisis is over.\n\n\n\n\n\nJoin from a PC\, Mac\, iPad\, iPhone or Android device:\n\nPlease click this URL to join. https://us04web.zoom.us/j/718361410?pwd=ODRUWlBGeG41dUZuOThXYkpmWmNFQT09\n\nPassword: 678728\nOr join by phone:\n\nDial(for higher quality\, dial a number based on your current location):\n\nUS: +1 312 626 6799 or +1 929 205 6099 or +1 346 248 7799 or +1 669 900 6833 or +1 253 215 8782 or +1 301 715 8592\n\nWebinar ID: 718 361 410\n\nPassword: 678728\n\nInternational numbers available: https://us04web.zoom.us/u/feia6bneC2
X-ALT-DESC;FMTTYPE=text/html:Before we entered these unprecedented times\, we saw online video consumption and social media usage increase to record numbers. Now because of the global crisis and current stay-at-home orders\, we will see those numbers reach unimaginable levels.<br />\n<br />\nBefore we entered these unprecedented times\, we saw online video consumption and social media usage increase to record numbers. Now because of the global crisis and current stay-at-home orders\, we will see those numbers reach unimaginable levels.<br />\n<br />\nThe Founders of Three Chairs are back to discuss how to use video and social media to communicate with your customers. How you can produce affordably creative content yourself\, and how tabling the sales pitch for an empathetic voice will not only be comforting to your customers but good for your brand when the crisis is over.<br />\n<br />\n<br />\n<span style="color: rgb(34\, 34\, 34)\; font-family: Arial\, sans-serif\; font-size: 13px\; white-space: pre-wrap\; background-color: rgb(255\, 255\, 255)\;">Join from a PC\, Mac\, iPad\, iPhone or Android device:</span><br style="color: rgb(34\, 34\, 34)\; font-family: Arial\, sans-serif\; font-size: 13px\; white-space: pre-wrap\; background-color: rgb(255\, 255\, 255)\;" />\n<span style="color: rgb(34\, 34\, 34)\; font-family: Arial\, sans-serif\; font-size: 13px\; white-space: pre-wrap\; background-color: rgb(255\, 255\, 255)\;">Please click this URL to join. </span><a data-saferedirecturl="https://www.google.com/url?q=https://www.google.com/url?q%3Dhttps%253A%252F%252Fus04web.zoom.us%252Fj%252F718361410%253Fpwd%253DODRUWlBGeG41dUZuOThXYkpmWmNFQT09%26sa%3DD%26usd%3D2%26usg%3DAFQjCNGDJgBMC3ppeUhjs3KZfKjhFt7oTw&amp\;source=gmail&amp\;ust=1586625524718000&amp\;usg=AFQjCNG_oBBOBytzRJIQrxt4rooPf65VBw" href="https://www.google.com/url?q=https%3A%2F%2Fus04web.zoom.us%2Fj%2F718361410%3Fpwd%3DODRUWlBGeG41dUZuOThXYkpmWmNFQT09&amp\;sa=D&amp\;usd=2&amp\;usg=AFQjCNGDJgBMC3ppeUhjs3KZfKjhFt7oTw" style="color: rgb(17\, 85\, 204)\; font-family: Arial\, sans-serif\; font-size: 13px\; white-space: pre-wrap\; background-color: rgb(255\, 255\, 255)\;" target="_blank">https://us04web.zoom.us/j/<wbr />718361410?pwd=<wbr />ODRUWlBGeG41dUZuOThXYkpmWmNFQT<wbr />09</a><br style="color: rgb(34\, 34\, 34)\; font-family: Arial\, sans-serif\; font-size: 13px\; white-space: pre-wrap\; background-color: rgb(255\, 255\, 255)\;" />\n<span style="color: rgb(34\, 34\, 34)\; font-family: Arial\, sans-serif\; font-size: 13px\; white-space: pre-wrap\; background-color: rgb(255\, 255\, 255)\;">Password: 678728</span>\n<p style="color: rgb(34\, 34\, 34)\; font-family: Arial\, sans-serif\; font-size: 13px\; white-space: pre-wrap\; background-color: rgb(255\, 255\, 255)\;">Or join by phone:<br />\nDial(for higher quality\, dial a number based on your current location):<br />\nUS: +1 312 626 6799 or +1 929 205 6099 or +1 346 248 7799 or +1 669 900 6833 or +1 253 215 8782 or +1 301 715 8592<br />\nWebinar ID: 718 361 410<br />\nPassword: 678728<br />\nInternational numbers available: <a data-saferedirecturl="https://www.google.com/url?q=https://www.google.com/url?q%3Dhttps%253A%252F%252Fus04web.zoom.us%252Fu%252Ffeia6bneC2%26sa%3DD%26usd%3D2%26usg%3DAFQjCNHdFh-x4Q3Sylcnv1kT3VvReioElQ&amp\;source=gmail&amp\;ust=1586625524718000&amp\;usg=AFQjCNEQ-QTt_TqQ_Ip43I3f93tDtcSmqQ" href="https://www.google.com/url?q=https%3A%2F%2Fus04web.zoom.us%2Fu%2Ffeia6bneC2&amp\;sa=D&amp\;usd=2&amp\;usg=AFQjCNHdFh-x4Q3Sylcnv1kT3VvReioElQ" style="color: rgb(17\, 85\, 204)\;" target="_blank">https://us04web.zoom.us/u/<wbr />feia6bneC2</a></p>\n
LOCATION:
UID:e.3610.307
SEQUENCE:3
DTSTAMP:20260420T045013Z
URL:https://business.mountpleasantchamber.org/events/details/my-video-social-staying-relevant-during-a-global-crisis-307
END:VEVENT

END:VCALENDAR
