BEGIN:VCALENDAR
VERSION:2.0
PRODID:-//ChamberMaster//Event Calendar 2.0//EN
METHOD:PUBLISH
X-PUBLISHED-TTL:P3D
REFRESH-INTERVAL:P3D
CALSCALE:GREGORIAN
BEGIN:VEVENT
DTSTART:20241017T153000Z
DTEND:20241017T170000Z
X-MICROSOFT-CDO-ALLDAYEVENT:FALSE
SUMMARY:MPCC Monthly Luncheon: PJ Browning\, CEO of Evening Post Publishing\, President & Publisher of The Post and Courier
DESCRIPTION:Pamela (P.J.) Browning became Chief Executive Officer with Evening Post Publishing in October of 2021. She is also President and Publisher of The Post and Courier in Charleston.\n\n\n\nPrior to Charleston she was President and Publisher of The Sun News in Myrtle Beach\, and President and Publisher at The Telegraph in Macon\, GA\, both owned by The McClatchy Company. During her time with The Sun News\, Browning guided the newspaper in a highly competitive market in which tourism plays a pivotal role. She also did extensive work bringing the newspaper into the digital era. Under her leadership\,\n\nMacon became one of the top newspapers in terms of re-engineering operations and innovative use of the internet. Before arriving in Macon\, P.J. served as President and Publisher of the Centre Daily Times in State College\, PA\, a Knight-Ridder owned newspaper. Her first role as Publisher was at the Sentinel in Carlisle\, PA.\n\n\n\nWhile attending college\, P.J. began her career at the News-Leader in Springfield\, MO in 1984. Journalism bound with sites on attending law school\, ink soon got in her blood and plans changed. P.J. worked in advertising at the News-Leader through graduation and was later promoted to a variety of positions through her 12 years at the paper before being promoted to the Advertising Director in Fort Collins\, CO. Her newspaper advertising career later took her to Grand Rapids\, MI and Asheville\, N.C.\n\n\n\nShe is a graduate of Missouri State University with a bachelor of science in marketing. P.J. is married to Kerry Browning and they have three grown children\, Casey\, Kylie and Cody. They are also proud grandparents of five. P.J. is a resident of Awendaw\, S.C. Browning was named Editor and Publisher's 2019 Publisher of the Year. She currently serves on the SNPA Foundation Board\; Stars and Stripes Advisory Board\; INMA Board of Directors\; and Trident Technical College Board of Trustees. Browning also served as President of Southern Newspaper Publishers Association\; and Vice President of S.C. Press Association.
X-ALT-DESC;FMTTYPE=text/html:Pamela (P.J.) Browning became Chief Executive Officer with Evening Post Publishing in October of 2021. She is also President and Publisher of The Post and Courier in Charleston.<br />\n<br />\nPrior to Charleston she was President and Publisher of The Sun News in Myrtle Beach\, and President and Publisher at The Telegraph in Macon\, GA\, both owned by The McClatchy Company. During her time with The Sun News\, Browning guided the newspaper in a highly competitive market in which tourism plays a pivotal role. She also did extensive work bringing the newspaper into the digital era. Under her leadership\,<br />\nMacon became one of the top newspapers in terms of re-engineering operations and innovative use of the internet. Before arriving in Macon\, P.J. served as President and Publisher of the Centre Daily Times in State College\, PA\, a Knight-Ridder owned newspaper. Her first role as Publisher was at the Sentinel in Carlisle\, PA.<br />\n<br />\nWhile attending college\, P.J. began her career at the News-Leader in Springfield\, MO in 1984. Journalism bound with sites on attending law school\, ink soon got in her blood and plans changed. P.J. worked in advertising at the News-Leader through graduation and was later promoted to a variety of positions through her 12 years at the paper before being promoted to the Advertising Director in Fort Collins\, CO. Her newspaper advertising career later took her to Grand Rapids\, MI and Asheville\, N.C.<br />\n<br />\nShe is a graduate of Missouri State University with a bachelor of science in marketing. P.J. is married to Kerry Browning and they have three grown children\, Casey\, Kylie and Cody. They are also proud grandparents of five. P.J. is a resident of Awendaw\, S.C. Browning was named Editor and Publisher&rsquo\;s 2019 Publisher of the Year. She currently serves on the SNPA Foundation Board\; Stars and Stripes Advisory Board\; INMA Board of Directors\; and Trident Technical College Board of Trustees. Browning also served as President of Southern Newspaper Publishers Association\; and Vice President of S.C. Press Association.
LOCATION:Omar Shrine Center
UID:e.3610.1973
SEQUENCE:3
DTSTAMP:20260419T221006Z
URL:https://business.mountpleasantchamber.org/events/details/mpcc-monthly-luncheon-pj-browning-ceo-of-evening-post-publishing-president-publisher-of-the-post-and-courier-1973
END:VEVENT

END:VCALENDAR
