BEGIN:VCALENDAR
VERSION:2.0
PRODID:-//ChamberMaster//Event Calendar 2.0//EN
METHOD:PUBLISH
X-PUBLISHED-TTL:P3D
REFRESH-INTERVAL:P3D
CALSCALE:GREGORIAN
BEGIN:VEVENT
DTSTART:20201027T113000Z
DTEND:20201027T130000Z
X-MICROSOFT-CDO-ALLDAYEVENT:FALSE
SUMMARY:MPCC Before Nine-Springhill Suites by Marriott Pool Deck and Balcony
DESCRIPTION:This will be a limited in-person\, outside event with social distancing protocols in place. Therefore you must be a MPCC member in good standing.\n\n\n\nElements Massage will be our featured member and  attendees can spin the wheel  to win some prizes!
X-ALT-DESC;FMTTYPE=text/html:<span style="font-family:verdana\;">This will be a limited in-person\, outside event with social distancing protocols in place. Therefore you must be a MPCC member in good standing.<br />\n<br />\nElements Massage will be our featured member and&nbsp\; attendees can spin the wheel&nbsp\; to win some prizes!</span>
LOCATION:
UID:e.3610.170
SEQUENCE:3
DTSTAMP:20260420T140054Z
URL:https://business.mountpleasantchamber.org/events/details/mpcc-before-nine-springhill-suites-by-marriott-pool-deck-and-balcony-170
END:VEVENT

END:VCALENDAR
