BEGIN:VCALENDAR
VERSION:2.0
PRODID:-//ChamberMaster//Event Calendar 2.0//EN
METHOD:PUBLISH
X-PUBLISHED-TTL:P3D
REFRESH-INTERVAL:P3D
CALSCALE:GREGORIAN
BEGIN:VEVENT
DTSTART:20200227T170000Z
DTEND:20200227T183000Z
X-MICROSOFT-CDO-ALLDAYEVENT:FALSE
SUMMARY:MPCC and American Marketing Association Food for Thought: Video and Social Media
DESCRIPTION:Did you know social videos generate 12 times more shares than text and images combined?\n\nJoin us for the February 27 Social Media   Video  hosted by  MPCC and American Marketing Association\n\n\n\nLearn how to:\n\nTell your story before you hit the record button\n\nUnderstand the relationship between social media and video\n\nWalk away with guidelines on creating engaging videos.
X-ALT-DESC;FMTTYPE=text/html:Did you know social videos generate 12 times more shares than text and images combined?<br />\nJoin us for the February 27 Social Media &#10084\;&#65039\;Video&nbsp\; hosted by&nbsp\; MPCC and American Marketing Association<br />\n<br />\nLearn how to:<br />\nTell your story before you hit the record button<br />\nUnderstand the relationship between social media and video<br />\nWalk away with guidelines on creating engaging videos.
LOCATION:Hilton Garden Inn 300 Wingo Way Mount Pleasant\, SC 29464
UID:e.3610.6
SEQUENCE:3
DTSTAMP:20260419T225318Z
URL:https://business.mountpleasantchamber.org/events/details/mpcc-and-american-marketing-association-food-for-thought-video-and-social-media-6
END:VEVENT

END:VCALENDAR
