BEGIN:VCALENDAR
VERSION:2.0
PRODID:-//ChamberMaster//Event Calendar 2.0//EN
METHOD:PUBLISH
X-PUBLISHED-TTL:P3D
REFRESH-INTERVAL:P3D
CALSCALE:GREGORIAN
BEGIN:VEVENT
DTSTART:20241113T210000Z
DTEND:20241114T000000Z
X-MICROSOFT-CDO-ALLDAYEVENT:FALSE
SUMMARY:MPCC After Hours
DESCRIPTION:Please join us to network with community leaders and MPCC members over cocktails and appetizers provided by Burton's Grill!
X-ALT-DESC;FMTTYPE=text/html:<span style="color: rgb(51\, 51\, 51)\; font-family: sans-serif\, Arial\, Verdana\, &quot\;Trebuchet MS&quot\;\; font-size: 13px\; background-color: rgb(255\, 255\, 255)\;">Please join us to network with community leaders and MPCC members over cocktails and appetizers provided by Burton&#39\;s Grill!</span>
LOCATION:Burton's Grill 1875 N Highway 17 Mount Pleasant\, SC 29464
UID:e.3610.1833
SEQUENCE:3
DTSTAMP:20260420T002922Z
URL:https://business.mountpleasantchamber.org/events/details/mpcc-after-hours-11-13-2024-1833
END:VEVENT

END:VCALENDAR
