BEGIN:VCALENDAR
VERSION:2.0
PRODID:-//ChamberMaster//Event Calendar 2.0//EN
METHOD:PUBLISH
X-PUBLISHED-TTL:P3D
REFRESH-INTERVAL:P3D
CALSCALE:GREGORIAN
BEGIN:VEVENT
DTSTART:20200820T160000Z
DTEND:20200820T173000Z
X-MICROSOFT-CDO-ALLDAYEVENT:FALSE
SUMMARY:Mount Pleasant Chamber of Commerce Virtual Monthly Luncheon: U.S. Representative Joe Cunningham
DESCRIPTION:Join us virtually for our August luncheon! We'll have updates from the Town of Mount Pleasant and our Committees. This month's speaker features U.S. Representative Joe Cunningham. Congressman Joe Cunningham represents South Carolina's First Congressional District which includes Mount Pleasant\, Charleston\, Kiawah and Hilton Head. He serves on the House Natural Resources and the House Veterans' Affairs Committee.\n\n\n\nPrior to his election to Congress\, Congressman Cunningham was an attorney and an ocean engineer. In Congress\, his priorities include reinstating the ban on offshore drilling off the Atlantic coast\, infrastructure investment\, protecting and creating Lowcountry jobs\, combating climate change and lowering the cost of healthcare and prescription drugs. Congressman Cunningham is also working to ensure Lowcountry veterans and their families receive the best and most reliable care\, services\, and benefits.\n\n\n\nCongressman Cunningham attended the College of Charleston\, obtained his B.S. in Ocean Engineering from Florida Atlantic University and his J.D. from Northern Kentucky University. He lives on James Island with his wife\, Amanda\, their son\, Boone\, and their dog\, Teddy.\n\n\n\nPlease email any questions you have for Congressman Cunningham no later than 5 PM Wed. August 19 to Rebecca@MountPleasantChamber.org.  \n\n\n\nRegister in advance for this webinar:\n\nhttps://us02web.zoom.us/webinar/register/WN_m4_hbAtYS7izZTIxDL590g\n\n\n\nMPCC AUGUST VIRTUAL LUNCHEON AGENDA
X-ALT-DESC;FMTTYPE=text/html:<span style="font-family:verdana\;">Join us virtually for our August luncheon! We&#39\;ll have updates from the Town of Mount Pleasant and our Committees. This month&#39\;s speaker features U.S. Representative Joe Cunningham. Congressman Joe Cunningham represents South Carolina&rsquo\;s First Congressional District which includes Mount Pleasant\, Charleston\, Kiawah and Hilton Head. He serves on the House Natural Resources and the House Veterans&rsquo\; Affairs Committee.<br />\n<br />\nPrior to his election to Congress\, Congressman Cunningham was an attorney and an ocean engineer. In Congress\, his priorities include reinstating the ban on offshore drilling off the Atlantic coast\, infrastructure investment\, protecting and creating Lowcountry jobs\, combating climate change and lowering the cost of healthcare and prescription drugs. Congressman Cunningham is also working to ensure Lowcountry veterans and their families receive the best and most reliable care\, services\, and benefits.<br />\n<br />\nCongressman Cunningham attended the College of Charleston\, obtained his B.S. in Ocean Engineering from Florida Atlantic University and his J.D. from Northern Kentucky University. He lives on James Island with his wife\, Amanda\, their son\, Boone\, and their dog\, Teddy.</span><br />\n<br />\n<span style="font-family:verdana\;">Please email any questions you have for Congressman Cunningham no later than 5 PM Wed. August 19 to <strong><a href="mailto:Rebecca@MountPleasantChamber.org">Rebecca@MountPleasantChamber.org</a></strong>.&nbsp\;&nbsp\;<br />\n<br />\nRegister in advance for this webinar:<br />\n<strong><a href="https://us02web.zoom.us/webinar/register/WN_m4_hbAtYS7izZTIxDL590g">https://us02web.zoom.us/webinar/register/WN_m4_hbAtYS7izZTIxDL590g</a></strong></span><br />\n<br />\n<strong><a href="https://drive.google.com/file/d/1pympAZ_01fMnxEi-vVwzxkd97vvI2Luo/view?usp=sharing">MPCC AUGUST VIRTUAL LUNCHEON AGENDA</a></strong>
LOCATION:
UID:e.3610.14
SEQUENCE:3
DTSTAMP:20260420T111323Z
URL:https://business.mountpleasantchamber.org/events/details/mount-pleasant-chamber-of-commerce-virtual-monthly-luncheon-u-s-representative-joe-cunningham-14
END:VEVENT

END:VCALENDAR
