BEGIN:VCALENDAR
VERSION:2.0
PRODID:-//ChamberMaster//Event Calendar 2.0//EN
METHOD:PUBLISH
X-PUBLISHED-TTL:P3D
REFRESH-INTERVAL:P3D
CALSCALE:GREGORIAN
BEGIN:VEVENT
DTSTART:20201015T160000Z
DTEND:20201015T173000Z
X-MICROSOFT-CDO-ALLDAYEVENT:FALSE
SUMMARY:Mount Pleasant Chamber of Commerce Virtual Monthly Luncheon: Dr. Dondi E. Costin\, President\, Charleston Southern University
DESCRIPTION:Join us virtually for our October luncheon! We'll have updates from the Town of Mount Pleasant and our Committees. This month's speaker features Dr. Dondi Costin\, the President of Charleston Southern University (CSU). A native of the South\, Dr. Costin has a track record of exemplary leadership. He came to CSU from the Pentagon where he was Air Force Chief of Chaplains and a two-star general. Dr. Costin is also a lifelong learner\, holding five master's degrees and two doctorates.\n\n\n\nPlease email any questions you have for Dr. Costin no later than NOON Wed. October 14 to Rebecca@MountPleasantChamber.org.\n\n\n\nhttps://us02web.zoom.us/webinar/register/WN_i_-VJbM0S2-Z1LBJDBhpvg
X-ALT-DESC;FMTTYPE=text/html:<span style="font-family:verdana\;">Join us virtually for our October luncheon! We&#39\;ll have updates from the Town of Mount Pleasant and our Committees. This month&#39\;s speaker features Dr. Dondi Costin\, the President of Charleston Southern University (CSU). A native of the South\, Dr. Costin has a track record of exemplary leadership. He came to CSU from the Pentagon where he was Air Force Chief of Chaplains and a two-star general. Dr. Costin is also a lifelong learner\, holding five master&rsquo\;s degrees and two doctorates.<br />\n<br />\nPlease email any questions you have for Dr. Costin no later than NOON Wed. October 14 to Rebecca@MountPleasantChamber.org.<br />\n<br />\n<strong><a href="https://us02web.zoom.us/webinar/register/WN_i_-VJbM0S2-Z1LBJDBhpvg">https://us02web.zoom.us/webinar/register/WN_i_-VJbM0S2-Z1LBJDBhpvg</a></strong></span>
LOCATION:
UID:e.3610.16
SEQUENCE:3
DTSTAMP:20260420T155035Z
URL:https://business.mountpleasantchamber.org/events/details/mount-pleasant-chamber-of-commerce-virtual-monthly-luncheon-dr-dondi-e-costin-president-charleston-southern-university-16
END:VEVENT

END:VCALENDAR
