BEGIN:VCALENDAR
VERSION:2.0
PRODID:-//ChamberMaster//Event Calendar 2.0//EN
METHOD:PUBLISH
X-PUBLISHED-TTL:P3D
REFRESH-INTERVAL:P3D
CALSCALE:GREGORIAN
BEGIN:VEVENT
DTSTART:20201202T170000Z
DTEND:20201202T183000Z
X-MICROSOFT-CDO-ALLDAYEVENT:FALSE
SUMMARY:Mount Pleasant Chamber of Commerce Monthly Luncheon
DESCRIPTION:The December holiday luncheon will feature a live musical performance by Joe Clarke\, owner of Forte Jazz Lounge\, recognize 2020 board members and announce incoming board members for 2021. Social Distancing Protocols including masks will be required upon entry.\n \n\nCut off time for registration is 12pm Tuesday\, December 1st and you must prepay in advance.
X-ALT-DESC;FMTTYPE=text/html:The December holiday luncheon will feature a live musical performance by Joe Clarke\, owner of Forte Jazz Lounge\, recognize 2020 board members and announce incoming board members for 2021. Social Distancing Protocols including masks will be required upon entry.\n<div>&nbsp\;</div>\n\n<div>Cut off time for registration is 12pm Tuesday\, December 1st and you must prepay in advance.</div>\n
LOCATION:Omar Shrine
UID:e.3610.18
SEQUENCE:3
DTSTAMP:20260420T173209Z
URL:https://business.mountpleasantchamber.org/events/details/mount-pleasant-chamber-of-commerce-monthly-luncheon-12-17-2020-18
END:VEVENT

END:VCALENDAR
