BEGIN:VCALENDAR
VERSION:2.0
PRODID:-//ChamberMaster//Event Calendar 2.0//EN
METHOD:PUBLISH
X-PUBLISHED-TTL:P3D
REFRESH-INTERVAL:P3D
CALSCALE:GREGORIAN
BEGIN:VEVENT
DTSTART:20200219T000500Z
DTEND:20200219T040000Z
X-MICROSOFT-CDO-ALLDAYEVENT:FALSE
SUMMARY:Mount Pleasant Chamber of Commerce and North Charleston Chamber of Commerce Night at the Stingrays
DESCRIPTION:Please join the Mount Pleasant Chamber of Commerce and the North Charleston Chamber of Commerce for a night of networking\, making new friends along with supporting our local hockey team as they take on the Greenville Swamp Rabbits.  We will meet outside the box office at 5:50 then proceed to the networking area (on the terrace) at 6pm. Your first drink is included with your ticket.  First 30 people to register for the game can ride on the Fanzam and get a FREE parking pass ( pick up until 3pm day of game at the front office 3300 W Montague Ave). Please review their bag policy here.
X-ALT-DESC;FMTTYPE=text/html:Please join the Mount Pleasant Chamber of Commerce and the North Charleston Chamber of Commerce for a night of networking\, making new friends along with supporting our local hockey team as they take on the Greenville Swamp Rabbits.&nbsp\; We will meet outside the box office at 5:50 then proceed to the networking area (on the terrace) at 6pm. Your first drink is included with your ticket.&nbsp\; First 30 people to register for the game can ride on the Fanzam and&nbsp\;get a FREE parking pass (<span style="color: rgb(34\, 34\, 34)\; font-family: Arial\, Helvetica\, sans-serif\; font-size: small\; background-color: rgb(255\, 255\, 255)\;">&nbsp\;pick up until 3pm day of game at the front office 3300 W Montague Ave).</span>&nbsp\;Please review their bag policy <a href="https://www.northcharlestoncoliseumpac.com/guest-services/clear-bag-policy">here</a>.&nbsp\;&nbsp\;
LOCATION:North Charleston Coliseum
UID:e.3610.5
SEQUENCE:3
DTSTAMP:20260420T033541Z
URL:https://business.mountpleasantchamber.org/events/details/mount-pleasant-chamber-of-commerce-and-north-charleston-chamber-of-commerce-night-at-the-stingrays-5
END:VEVENT

END:VCALENDAR
