BEGIN:VCALENDAR
VERSION:2.0
PRODID:-//ChamberMaster//Event Calendar 2.0//EN
METHOD:PUBLISH
X-PUBLISHED-TTL:P3D
REFRESH-INTERVAL:P3D
CALSCALE:GREGORIAN
BEGIN:VEVENT
DTSTART:20200116T170000Z
DTEND:20200116T183000Z
X-MICROSOFT-CDO-ALLDAYEVENT:FALSE
SUMMARY:Monthly Luncheon: Mayor Will Haynie
DESCRIPTION:Mayor Will Haynie was elected to the Mount Pleasant Town Council in November 2015 and as mayor in November 2017.\n\n\n\n Born in Greenville\, South Carolina\, Mayor Haynie moved with his family to Mount Pleasant in 1966. He attended kindergarten at First Presbyterian Church and spent days playing in the Old Village and walking to Pitt Street Pharmacy for their legendary cherry Cokes. After his father finished a stint at MUSC\, Will's family moved to Sumter\, South Carolina in 1969\, where he completed high school.\n\n\n\n Mayor Haynie graduated from The Citadel in 1983 with a degree in business administration. While a cadet\, he rose to the highest cadet rank\, regimental commander\, was elected by his classmates as commander of the Summerall Guards and received the highest award for leadership and principle that can be conferred by the college on a cadet: the Palmetto Medal Award.\n\n\n\n In his professional life\, Mayor Haynie has been CEO of several nonprofits\, including the Lowcountry Open Land Trust and the South Carolina Maritime Foundation. His media experience includes serving as op-ed columnist for three newspapers\, including the Moultrie News\; sailing columnist for the Post and Courier\; talk radio show host\; and congressional press secretary. His first book was published in 2001. Mayor Haynie currently owns his own media/marketing/PR advisory firm located in Mount Pleasant.
X-ALT-DESC;FMTTYPE=text/html:Mayor Will Haynie was elected to the Mount Pleasant Town Council in November 2015 and as mayor in November 2017.<br />\n<br />\n&nbsp\;Born in Greenville\, South Carolina\, Mayor Haynie moved with his family to Mount Pleasant in 1966. He attended kindergarten at First Presbyterian Church and spent days playing in the Old Village and walking to Pitt Street Pharmacy for their legendary cherry Cokes. After his father finished a stint at MUSC\, Will&rsquo\;s family moved to Sumter\, South Carolina in 1969\, where he completed high school.<br />\n<br />\n&nbsp\;Mayor Haynie graduated from The Citadel in 1983 with a degree in business administration. While a cadet\, he rose to the highest cadet rank\, regimental commander\, was elected by his classmates as commander of the Summerall Guards and received the highest award for leadership and principle that can be conferred by the college on a cadet: the Palmetto Medal Award.<br />\n<br />\n&nbsp\;In his professional life\, Mayor Haynie has been CEO of several nonprofits\, including the Lowcountry Open Land Trust and the South Carolina Maritime Foundation. His media experience includes serving as op-ed columnist for three newspapers\, including the Moultrie News\; sailing columnist for the Post and Courier\; talk radio show host\; and congressional press secretary. His first book was published in 2001. Mayor Haynie currently owns his own media/marketing/PR advisory firm located in Mount Pleasant.
LOCATION:Venue: Omar Shrine 176 Patriots Point Road Mount Pleasant SC 29464\, US
UID:e.3610.1
SEQUENCE:3
DTSTAMP:20260420T033055Z
URL:https://business.mountpleasantchamber.org/events/details/monthly-luncheon-mayor-will-haynie-1
END:VEVENT

END:VCALENDAR
