BEGIN:VCALENDAR
VERSION:2.0
PRODID:-//ChamberMaster//Event Calendar 2.0//EN
METHOD:PUBLISH
X-PUBLISHED-TTL:P3D
REFRESH-INTERVAL:P3D
CALSCALE:GREGORIAN
BEGIN:VEVENT
DTSTART:20200407T150000Z
DTEND:20200407T154500Z
X-MICROSOFT-CDO-ALLDAYEVENT:FALSE
SUMMARY:Join our Free Webinar: Marketing your Business During a Crisis
DESCRIPTION:Marketing Your Business in a Time of Crisis with The Post and Courier and Evening Post Newspapers\n\n\n\nThe COVID-19 outbreak has changed the marketing landscape for businesses. Join us for a live webinar as we host renowned marketing experts Gordon Borrell\, Corey Elliott\, and Jim Brown\; to discuss how to manage your marketing in a time of crisis.
X-ALT-DESC;FMTTYPE=text/html:<span style="font-family:arial\;">Marketing Your Business in a Time of Crisis with The Post and Courier and Evening Post Newspapers</span><br />\n<br />\n<span style="font-family:arial\;">The COVID-19 outbreak has changed the marketing landscape for businesses. Join us for a live webinar as we host renowned marketing experts Gordon Borrell\, Corey Elliott\, and Jim Brown\; to discuss how to manage your marketing in a time of crisis.&nbsp\;</span><br />\n&nbsp\;
LOCATION:Online
UID:e.3610.301
SEQUENCE:3
DTSTAMP:20260420T045234Z
URL:https://business.mountpleasantchamber.org/events/details/join-our-free-webinar-marketing-your-business-during-a-crisis-301
END:VEVENT

END:VCALENDAR
