BEGIN:VCALENDAR
VERSION:2.0
PRODID:-//ChamberMaster//Event Calendar 2.0//EN
METHOD:PUBLISH
X-PUBLISHED-TTL:P3D
REFRESH-INTERVAL:P3D
CALSCALE:GREGORIAN
BEGIN:VEVENT
DTSTART:20201211T173000Z
DTEND:20201211T180000Z
X-MICROSOFT-CDO-ALLDAYEVENT:FALSE
SUMMARY:Ivybrook Academy Preschool Ribbon Cutting
DESCRIPTION:You are invited to the grand opening of Ivybrook Academy Preschool. The ribbon-cutting ceremony will take place on Friday\, December 11 at 12:30 p.m. This new local business is being opened by Heather Calhoun. A mother of 3\, Heather whole-heartedly believes in the importance of a strong educational foundation through hands-on exploration\, problem-solving\, and working collaboratively with others.
X-ALT-DESC;FMTTYPE=text/html:<span style="font-family:verdana\;">You are invited to the grand opening of Ivybrook Academy Preschool. The ribbon-cutting ceremony will take place on Friday\, December 11 at 12:30 p.m. This new local business is being opened by Heather Calhoun. A mother of 3\, Heather whole-heartedly believes in the importance of a strong educational foundation through hands-on exploration\, problem-solving\, and working collaboratively with others.&nbsp\;</span>
LOCATION:
UID:e.3610.416
SEQUENCE:3
DTSTAMP:20260420T172911Z
URL:https://business.mountpleasantchamber.org/events/details/ivybrook-academy-preschool-ribbon-cutting-416
END:VEVENT

END:VCALENDAR
